BEGIN:VCALENDAR
VERSION:2.0
PRODID:-//ChamberMaster//Event Calendar 2.0//EN
METHOD:PUBLISH
X-PUBLISHED-TTL:P3D
REFRESH-INTERVAL:P3D
CALSCALE:GREGORIAN
BEGIN:VEVENT
DTSTART:20221112T190000Z
DTEND:20221112T200000Z
X-MICROSOFT-CDO-ALLDAYEVENT:FALSE
SUMMARY:CAMTalks: History Series - Gardens on Cape Ann: Past & Present (Cancelled)
DESCRIPTION:with Jessica Reid\, Backyard Growers \n\nCAM Auditorium\, 27 Pleasant Street\, Gloucester\, MA \n\nFree and open to the public \n\nLivestreamed on Facebook and Vimeo\n\nThis spring\, the Cape Ann Museum partnered with Backyard Growers to plant raised garden beds at the Cape Ann Museum Green. These gardens were filled with vegetables and herbs that would have been grown on Cape Ann in the 1700's when both the White-Ellery House (1710) and the Babson-Alling House (c. 1740) were built.  \n\nIn this panel presentation\, learn about the history of kitchen gardens on Cape Ann and how Backyard Growers is working with residents throughout the region to continue the tradition into today.
X-ALT-DESC;FMTTYPE=text/html:<p><em><span style="font-family:inherit"><span style="font-family:inherit">with Jessica Reid\, Backyard Growers</span></span><span style="font-family:inherit"><span style="font-family:inherit">&nbsp\;</span></span></em></p>\n\n<p><em><span style="font-family:inherit"><span style="font-family:inherit"><span style="font-family:inherit">CAM Auditorium\, 27 Pleasant Street\, Gloucester\, MA</span></span><span style="font-family:inherit"><span style="font-family:inherit">&nbsp\;</span></span><br />\n<span style="font-family:inherit"><span style="font-family:inherit">Free and open to the public</span></span><span style="font-family:inherit"><span style="font-family:inherit">&nbsp\;</span></span><br />\n<span style="font-family:inherit"><span style="font-family:inherit">Livestreamed on Facebook and Vimeo</span></span></span></em></p>\n\n<p><span style="font-family:inherit">This spring\, the Cape Ann Museum partnered with Backyard Growers to plant raised garden beds at the Cape Ann Museum Green. These gardens were filled with vegetables and herbs that would have been grown on Cape Ann in the 1700&rsquo\;s when both the</span><span style="font-family:inherit">&nbsp\;White-Ellery House (1710) and the Babson-Alling House (c. 1740) were built.&nbsp\;</span><span style="font-family:inherit">&nbsp\;</span></p>\n\n<p><span style="font-family:inherit">In this panel presentation\, learn about the history of kitchen gardens on Cape Ann and how Backyard Growers is working with residents throughout the region to continue the tradition into today.</span><span style="font-family:inherit">&nbsp\;</span></p>\n
LOCATION:Cape Ann Museum 27 Pleasant St Gloucester\, MA 01930
UID:e.2981.23141
SEQUENCE:3
DTSTAMP:20260424T123728Z
URL:https://business.capeannchamber.com/events/details/camtalks-history-series-gardens-on-cape-ann-past-present-23141
END:VEVENT

END:VCALENDAR
