BEGIN:VCALENDAR
VERSION:2.0
PRODID:-//ChamberMaster//Event Calendar 2.0//EN
METHOD:PUBLISH
X-PUBLISHED-TTL:P3D
REFRESH-INTERVAL:P3D
CALSCALE:GREGORIAN
BEGIN:VEVENT
DTSTART:20221119T190000Z
DTEND:20221119T200000Z
X-MICROSOFT-CDO-ALLDAYEVENT:FALSE
SUMMARY:CAMTalks: Exhibition Series - The Folly Cove Designers: Art\, Life\, Place\, and Legacy
DESCRIPTION:with Paula Bradstreet Richter\, Curator\, Peabody Essex Museum \n\nCAM Auditorium\, 27 Pleasant Street\, Gloucester\, MA \n\nFree for members\, $10 for non-members \n\nLivestreamed on Facebook and Vimeo \n\nJoin Paula Richter\, museum curator and Cape Ann resident\, for an exploration of the Folly Cove Designers' artistic creativity and practice from 1938 to 1969 and their legacy for artists today.? Led by artist\, illustrator\, and author\, Virginia Lee Burton Demetrios\, this 20th-century textile artists' group grew from modest beginnings to an artists' guild of national and international significance acclaimed for their linoleum block-printed textiles used as home furnishings\,?interior decoration\, and clothing.?? \n\nThis talk is part of a three-part series celebrating the history of the Folly Cove Designers in association with the special exhibition Designed and Hand-Blocked by the Folly Cove Designers. To learn more\, join June Vail on December 2\, 2022 for Folly Coves Sketches / Remembering Virginia Lee Burton and CAM's Assistant Curator\, Leon Doucette\, for The Formation of Folly Cove on January 14\, 2023.
X-ALT-DESC;FMTTYPE=text/html:<p><em><span style="font-family:inherit"><span style="font-family:inherit">with&nbsp\;</span><span style="font-family:inherit">Paula Bradstreet Richter\, Curator\, Peabody Essex Museum</span></span><span style="font-family:inherit"><span style="font-family:inherit">&nbsp\;</span></span></em></p>\n\n<p><em><span style="font-family:inherit"><span style="font-family:inherit"><span style="font-family:inherit">CAM Auditorium\, 27 Pleasant Street\, Gloucester\, MA</span></span><span style="font-family:inherit"><span style="font-family:inherit">&nbsp\;</span></span><br />\n<span style="font-family:inherit"><span style="font-family:inherit">Free for member</span><span style="font-family:inherit">s</span><span style="font-family:inherit">\, $10 for non-members</span></span><span style="font-family:inherit"><span style="font-family:inherit">&nbsp\;</span></span><br />\n<span style="font-family:inherit"><span style="font-family:inherit">Livestreamed on Facebook and Vimeo</span></span><span style="font-family:inherit">&nbsp\;</span></span></em></p>\n\n<p><span style="font-family:inherit">Join Paula Richter\, museum curator and Cape Ann resident\, for an exploration of the Folly Cove Designers&rsquo\; artistic creativity and practice from 1938 to 1969 and their legacy for artists today.? Led by artist\, illustrator\, and author\, Virginia Lee Burton Demetrios\, this 20</span><span style="font-family:inherit">th-</span><span style="font-family:inherit">century textile artists&rsquo\; group grew from modest beginnings to an artists&rsquo\; guild of national and international significance acclaimed for their linoleum block-printed textiles used as home furnishings\,?interior decoration\, and clothing.??</span><span style="font-family:inherit">&nbsp\;</span></p>\n\n<p><span style="font-family:inherit">This talk is part of a three-part series celebrating the history of the Folly Cove Designers in association with the special exhibition&nbsp\;</span><em>Designed and Hand-Blocked by the Folly Cove Designers.&nbsp\;</em><span style="font-family:inherit">To learn more\, join June Vail on December 2\, 2022 for&nbsp\;</span><em>Folly Coves Sketches / Remembering Virginia Lee Burton</em><span style="font-family:inherit">&nbsp\;and CAM&rsquo\;s Assistant Curator\, Leon Doucette\, for&nbsp\;</span><em>The Formation of Folly Cove</em><span style="font-family:inherit">&nbsp\;on January 14\, 2023.</span><span style="font-family:inherit">&nbsp\;</span></p>\n
LOCATION:Cape Ann Museum 27 Pleasant St Gloucester\, MA 01930
UID:e.2981.23162
SEQUENCE:3
DTSTAMP:20260424T124133Z
URL:https://business.capeannchamber.com/events/details/camtalks-exhibition-series-the-folly-cove-designers-art-life-place-and-legacy-23162
END:VEVENT

END:VCALENDAR
