BEGIN:VCALENDAR
VERSION:2.0
PRODID:-//ChamberMaster//Event Calendar 2.0//EN
METHOD:PUBLISH
X-PUBLISHED-TTL:P3D
REFRESH-INTERVAL:P3D
CALSCALE:GREGORIAN
BEGIN:VEVENT
DTSTART:20221028T220000Z
DTEND:20221029T000000Z
X-MICROSOFT-CDO-ALLDAYEVENT:FALSE
SUMMARY:CAM Teen Fright Night
DESCRIPTION:Downtown Campus\, 27 Pleasant Street\, Gloucester\, MA \n\nTeen-only event\, free and open to the public\n\nThe Cape Ann Museum Teen Council is hosting a Fright Night!?Join us in the CAM Auditorium at the Downtown Campus from 6:00   8:00 pm on Friday\, October 28.?This event is free and open to all teens ages 13-19. \n\nWear your most creative costume and prepare to dance\, eat treats\, and avoid the ghosts in the gallery to get to the party!? \n\nActivities will include: \n\n\n	Costume contest? \n	Pumpkin carving? \n	Dancing \n\n\n\n	Halloween mock-tails + treats \n	Face painting \n\n\nAbout the CAM Teen Council: \n\nThe Cape Ann Museum Teen Council offers paid opportunities for local teens to lead the development of youth initiatives at the Museum. Each year\, a new summer cohort of Teen Council Members learn about the behind-the-scenes operations of the Museum\, meet key staff and board members\, and help to design programs and installations to engage their peers. Applications for the 2023 Summer Cohort will be posted in the spring of 2023.
X-ALT-DESC;FMTTYPE=text/html:<p><em><span style="font-family:inherit"><span style="font-family:inherit">Downtown Campus\, 27 Pleasant Street\, Gloucester\, MA</span></span><span style="font-family:inherit"><span style="font-family:inherit">&nbsp\;</span></span><br />\n<span style="font-family:inherit"><span style="font-family:inherit">Teen-only event\, free and open to the public</span></span></em></p>\n\n<p><span style="font-family:inherit">The&nbsp\;</span><a href="https://www.capeannmuseum.org/programs/teenartscouncil/" style="box-sizing: border-box\; margin: 0px\; padding: 0px\; border: 0px\; font-weight: bold\; font-style: inherit\; font-family: inherit\; vertical-align: baseline\; background: transparent\; color: rgb(21\, 91\, 128)\; text-decoration-line: none\;">Cape Ann Museum Teen Council</a><span style="font-family:inherit"><span style="font-family:inherit">&nbsp\;is hosting&nbsp\;</span><span style="font-family:inherit">a Fright</span><span style="font-family:inherit">&nbsp\;Night!?Join us in the CAM Auditorium at the Downtown Campus from 6:00 &ndash\; 8:00 pm on Friday\, October 28.?</span><span style="font-family:inherit">This event is free and open to all teens ages 13-19.</span></span><span style="font-family:inherit">&nbsp\;</span></p>\n\n<p><span style="font-family:inherit">Wear your most creative costume and prepare to dance\, eat treats\, and avoid the ghosts in the gallery to get to the party!?</span><span style="font-family:inherit">&nbsp\;</span></p>\n\n<p><span style="font-family:inherit"><span style="font-family:inherit">A</span><span style="font-family:inherit">ctivities will include</span><span style="font-family:inherit">:</span></span><span style="font-family:inherit">&nbsp\;</span></p>\n\n<ul>\n	<li><span style="font-family:inherit"><span style="font-family:inherit">C</span><span style="font-family:inherit">ostume contest?</span></span><span style="font-family:inherit">&nbsp\;</span></li>\n	<li><span style="font-family:inherit"><span style="font-family:inherit">P</span><span style="font-family:inherit">umpkin carving?</span></span><span style="font-family:inherit">&nbsp\;</span></li>\n	<li><span style="font-family:inherit"><span style="font-family:inherit">D</span><span style="font-family:inherit">ancing</span></span><span style="font-family:inherit">&nbsp\;</span></li>\n</ul>\n\n<ul>\n	<li><span style="font-family:inherit"><span style="font-family:inherit">H</span><span style="font-family:inherit">alloween mock-tails + treats</span></span><span style="font-family:inherit">&nbsp\;</span></li>\n	<li><span style="font-family:inherit"><span style="font-family:inherit">Fa</span><span style="font-family:inherit">ce paint</span><span style="font-family:inherit">ing</span></span><span style="font-family:inherit">&nbsp\;</span></li>\n</ul>\n\n<p><strong>About the CAM Teen Council:</strong><span style="font-family:inherit">&nbsp\;</span></p>\n\n<p><span style="font-family:inherit">The&nbsp\;</span><a href="https://www.capeannmuseum.org/programs/teenartscouncil/" style="box-sizing: border-box\; margin: 0px\; padding: 0px\; border: 0px\; font-weight: bold\; font-style: inherit\; font-family: inherit\; vertical-align: baseline\; background: transparent\; color: rgb(21\, 91\, 128)\; text-decoration-line: none\;">Cape Ann Museum Teen Council</a><span style="font-family:inherit">&nbsp\;offers paid opportunities for local teens to lead the development of youth initiatives at the Museum. Each year\, a new summer cohort of Teen Council Members learn about the behind-the-scenes operations of the Museum\, meet key staff and board members\, and help to design programs and installations to engage their peers. Applications for the 2023 Summer Cohort will be posted in the spring of 2023.</span><span style="font-family:inherit">&nbsp\;</span></p>\n
LOCATION:Cape Ann Museum 27 Pleasant St Gloucester\, MA 01930
UID:e.2981.23135
SEQUENCE:3
DTSTAMP:20260424T123900Z
URL:https://business.capeannchamber.com/events/details/cam-teen-fright-night-23135
END:VEVENT

END:VCALENDAR
