BEGIN:VCALENDAR
VERSION:2.0
PRODID:-//ChamberMaster//Event Calendar 2.0//EN
METHOD:PUBLISH
X-PUBLISHED-TTL:P3D
REFRESH-INTERVAL:P3D
CALSCALE:GREGORIAN
BEGIN:VEVENT
DTSTART:20250802T190000Z
DTEND:20250802T200000Z
X-MICROSOFT-CDO-ALLDAYEVENT:FALSE
SUMMARY:CAM Talk – Mending Movement: Sail Repair in the Early Maritime Atlantic\, with Emily Whitted
DESCRIPTION:Saturday\, August 2\, 2025\n\n3:00 p.m.   4:00 p.m.\n\nJanet & William Ellery James Center\n\nCAM Green\, 13 Poplar Street\, Gloucester\, MA 01930\n\nCAM Members Free\, Non-Members $10\n\nRegistration is required as space is limited.\n\nIn the age of sail\, the efficient movement of people and goods around the early maritime Atlantic world relied on the strength of woven fabric and the means to repair it successfully. Sails underwent extensive wear and required regular maintenance and repair work completed by sailors onboard ships while at sea or by sailmakers while in ports. By focusing on ship sails as a technology of maritime movement\, sailcloth repair offers insights into the value of repair practices within maritime businesses. Using extant material culture and archival documents from New England's many maritime collections\, this presentation traces the history of sail repair inside sailmakers' lofts\, on the decks of ships\, and within marine insurance policies. \n\nEmily Whitted is a PhD candidate in History at the University of Massachusetts Amherst whose work focuses on early American history\, material culture\, and public history. Her dissertation project\, "Darned\, Patched\, and Mended: Repairing Textiles in Early America\," examines early American textile repair work as an integral\, everyday practice completed with needles and thread to maintain fabric's life cycles within homes\, ships\, and military camps. She also holds a M.A. in American Material Culture from the Winterthur Program at the University of Delaware. \n\n \n\nImage Credit: Mended sails. Image courtesy of the speaker.
X-ALT-DESC;FMTTYPE=text/html:<p>Saturday\, August 2\, 2025<br />\n3:00 p.m. &ndash\; 4:00 p.m.<br />\nJanet &amp\; William Ellery James Center<br />\n<a href="https://www.capeannmuseum.org/visit/cam-green-campus/" style="box-sizing: border-box\; margin: 0px\; padding: 0px\; border-width: 0px 0px 1px\; border-top-style: initial\; border-right-style: initial\; border-bottom-style: solid\; border-left-style: initial\; border-color: rgb(211\, 211\, 211)\; border-image: initial\; font-variant: inherit\; font-weight: inherit\; font-stretch: inherit\; font-size: inherit\; line-height: inherit\; font-family: inherit\; font-optical-sizing: inherit\; font-size-adjust: inherit\; font-kerning: inherit\; font-feature-settings: inherit\; font-variation-settings: inherit\; vertical-align: baseline\; text-decoration-line: none\; outline: 0px\; max-width: 100%\; color: rgb(37\, 119\, 160)\; transition: color 0.2s\;">CAM Green</a>\, 13 Poplar Street\, Gloucester\, MA 01930<br />\n<em>CAM Members Free\, Non-Members $10</em><br />\n<em><a href="https://115461a.blackbaudhosting.com/115461a/CAM-Talk-Mending-Movement-Sail-Repair-in-the-Early-Maritime-Atlantic-with-Emily-Whitted" style="box-sizing: border-box\; margin: 0px\; padding: 0px\; border-width: 0px 0px 1px\; border-top-style: initial\; border-right-style: initial\; border-bottom-style: solid\; border-left-style: initial\; border-color: rgb(211\, 211\, 211)\; border-image: initial\; font-style: normal\; font-variant: inherit\; font-weight: inherit\; font-stretch: inherit\; font-size: inherit\; line-height: inherit\; font-family: inherit\; font-optical-sizing: inherit\; font-size-adjust: inherit\; font-kerning: inherit\; font-feature-settings: inherit\; font-variation-settings: inherit\; vertical-align: baseline\; text-decoration-line: none\; outline: 0px\; max-width: 100%\; color: rgb(37\, 119\, 160)\; transition: color 0.2s\;">Registration is required as space is limited.</a></em></p>\n\n<p>In the age of sail\, the efficient movement of people and goods around the early maritime Atlantic world relied on the strength of woven fabric and the means to repair it successfully. Sails underwent extensive wear and required regular maintenance and repair work completed by sailors onboard ships while at sea or by sailmakers while in ports. By focusing on ship sails as a technology of maritime movement\, sailcloth repair offers insights into the value of repair practices within maritime businesses. Using extant material culture and archival documents from New England&rsquo\;s many maritime collections\, this presentation traces the history of sail repair inside sailmakers&rsquo\; lofts\, on the decks of ships\, and within marine insurance policies.&nbsp\;</p>\n\n<p><a href="https://www.umass.edu/history/about/directory/emily-whitted" style="box-sizing: border-box\; margin: 0px\; padding: 0px\; border-width: 0px 0px 1px\; border-top-style: initial\; border-right-style: initial\; border-bottom-style: solid\; border-left-style: initial\; border-color: rgb(211\, 211\, 211)\; border-image: initial\; font-variant: inherit\; font-weight: inherit\; font-stretch: inherit\; font-size: inherit\; line-height: inherit\; font-family: inherit\; font-optical-sizing: inherit\; font-size-adjust: inherit\; font-kerning: inherit\; font-feature-settings: inherit\; font-variation-settings: inherit\; vertical-align: baseline\; text-decoration-line: none\; outline: 0px\; max-width: 100%\; color: rgb(37\, 119\, 160)\; transition: color 0.2s\;">Emily Whitted</a>&nbsp\;is a PhD candidate in History at the University of Massachusetts Amherst whose work focuses on early American history\, material culture\, and public history. Her dissertation project\, &ldquo\;Darned\, Patched\, and Mended: Repairing Textiles in Early America\,&rdquo\; examines early American textile repair work as an integral\, everyday practice completed with needles and thread to maintain fabric&rsquo\;s life cycles within homes\, ships\, and military camps. She also holds a M.A. in American Material Culture from the Winterthur Program at the University of Delaware.&nbsp\;</p>\n\n<p>&nbsp\;</p>\n\n<p><em>Image Credit: Mended sails. Image courtesy of the speaker.</em></p>\n
LOCATION:Janet & William Ellery James Center CAM Green\, 13 Poplar Street\, Gloucester\, MA 01930
UID:e.2981.37401
SEQUENCE:3
DTSTAMP:20260425T000103Z
URL:https://business.capeannchamber.com/events/details/cam-talk-mending-movement-sail-repair-in-the-early-maritime-atlantic-with-emily-whitted-37401
END:VEVENT

END:VCALENDAR
