BEGIN:VCALENDAR
VERSION:2.0
PRODID:-//ChamberMaster//Event Calendar 2.0//EN
METHOD:PUBLISH
X-PUBLISHED-TTL:P3D
REFRESH-INTERVAL:P3D
CALSCALE:GREGORIAN
BEGIN:VEVENT
DTSTART:20250927T190000Z
DTEND:20250927T200000Z
X-MICROSOFT-CDO-ALLDAYEVENT:FALSE
SUMMARY:CAM Talk – Gloucester & Essex Shipbuilding Connections\, with KD Montgomery
DESCRIPTION:Saturday\, September 27\, 2025\n\n3:00 p.m.   4:00 p.m.\n\nJanet & William Ellery James Center\n\nCAM Green\, 13 Poplar Street\, Gloucester\, MA 01930\n\nCAM Members Free\, Non-Members $10\n\nRegistration is required as space is limited. \n\nSix vessels captured in photographs on view in Down to the Sea\, the Photographs of Ernest L. Blatchford were built in nearby Essex. Join Essex Historical Society & Shipbuilding Museum Executive Director KD Montgomery for an exploration of Essex's maritime history and its shipbuilding connections to Gloucester. \n\n \n\nImage Credit: Schooners at wharf\, including Rita A. Viator and Edith Silveria\, and the tugboat Priscilla\, 1907\, photograph by Ernest L. Blatchford (1868-1947). Gordon W. Thomas Collection of the Cape Ann Museum Library & Archives\, Gloucester\, MA. Museum Purchase/Gift [2794].
X-ALT-DESC;FMTTYPE=text/html:<p>Saturday\, September 27\, 2025<br />\n3:00 p.m. &ndash\; 4:00 p.m.<br />\nJanet &amp\; William Ellery James Center<br />\nCAM Green\, 13 Poplar Street\, Gloucester\, MA 01930<br />\n<em>CAM Members Free\, Non-Members $10</em><br />\n<em><a href="https://115461a.blackbaudhosting.com/115461a/CAM-Talk-Gloucester--Essex-Shipbuilding-Connections-with-KD-Montgomery" style="box-sizing: border-box\; margin: 0px\; padding: 0px\; border-width: 0px 0px 1px\; border-top-style: initial\; border-right-style: initial\; border-bottom-style: solid\; border-left-style: initial\; border-color: rgb(211\, 211\, 211)\; border-image: initial\; font-style: normal\; font-variant: inherit\; font-weight: inherit\; font-stretch: inherit\; font-size: inherit\; line-height: inherit\; font-family: inherit\; font-optical-sizing: inherit\; font-size-adjust: inherit\; font-kerning: inherit\; font-feature-settings: inherit\; font-variation-settings: inherit\; vertical-align: baseline\; text-decoration-line: none\; outline: 0px\; max-width: 100%\; color: rgb(37\, 119\, 160)\; transition: color 0.2s\;">Registration is required as space is limited.&nbsp\;</a></em></p>\n\n<p>Six vessels captured in photographs on view in&nbsp\;<em>Down to the Sea\, the Photographs of Ernest L. Blatchford</em>&nbsp\;were built in nearby Essex. Join&nbsp\;<a href="https://www.essexshipbuilding.org/" style="box-sizing: border-box\; margin: 0px\; padding: 0px\; border-width: 0px 0px 1px\; border-top-style: initial\; border-right-style: initial\; border-bottom-style: solid\; border-left-style: initial\; border-color: rgb(211\, 211\, 211)\; border-image: initial\; font-variant: inherit\; font-weight: inherit\; font-stretch: inherit\; font-size: inherit\; line-height: inherit\; font-family: inherit\; font-optical-sizing: inherit\; font-size-adjust: inherit\; font-kerning: inherit\; font-feature-settings: inherit\; font-variation-settings: inherit\; vertical-align: baseline\; text-decoration-line: none\; outline: 0px\; max-width: 100%\; color: rgb(37\, 119\, 160)\; transition: color 0.2s\;">Essex Historical Society &amp\; Shipbuilding Museum</a>&nbsp\;Executive Director KD Montgomery for an exploration of Essex&rsquo\;s maritime history and its shipbuilding connections to Gloucester.&nbsp\;</p>\n\n<p><em>&nbsp\;</em></p>\n\n<p><em>Image Credit: Schooners at wharf\, including Rita A. Viator and Edith Silveria\, and the tugboat Priscilla\,&nbsp\;1907\, photograph by Ernest L. Blatchford (1868-1947). Gordon W. Thomas Collection of the Cape Ann Museum Library &amp\; Archives\, Gloucester\, MA. Museum Purchase/Gift [2794].</em></p>\n
LOCATION:Janet & William Ellery James Center CAM Green\, 13 Poplar Street\, Gloucester\, MA 01930
UID:e.2981.37403
SEQUENCE:3
DTSTAMP:20260425T011448Z
URL:https://business.capeannchamber.com/events/details/cam-talk-gloucester-essex-shipbuilding-connections-with-kd-montgomery-37403
END:VEVENT

END:VCALENDAR
