BEGIN:VCALENDAR
VERSION:2.0
PRODID:-//ChamberMaster//Event Calendar 2.0//EN
METHOD:PUBLISH
X-PUBLISHED-TTL:P3D
REFRESH-INTERVAL:P3D
CALSCALE:GREGORIAN
BEGIN:VEVENT
DTSTART:20221119T150000Z
DTEND:20221119T190000Z
X-MICROSOFT-CDO-ALLDAYEVENT:FALSE
SUMMARY:CAM Studio Workshop: Block Print Holiday Cards
DESCRIPTION:CAM Studio\, 27 Pleasant Street\, Gloucester\, MA \n\n$35 for members\, $45 for non-members \n\nMake your own block printed holiday cards with artist Mary Rhinelander in this four-hour workshop. Students will take inspiration from Designed and Hand-Blocked by the Folly Cove Designers exhibition\, on display through March 12\, 2023. Using simple and familiar designs\, this workshop is a great entrance point for anyone who would like to try their hand at block printing. \n\nAll participants are invited to stay for CAMTalks: Folly Cove Designers with Paula Richter at 2:00 pm in the CAM Auditorium.
X-ALT-DESC;FMTTYPE=text/html:<p><em><span style="font-family:inherit"><span style="font-family:inherit">CAM Studio\, 27 Pleasant Street\, Gloucester\, MA</span></span><span style="font-family:inherit"><span style="font-family:inherit">&nbsp\;</span></span><br />\n<span style="font-family:inherit"><span style="font-family:inherit">$35 for members\, $45 for non-members</span></span><span style="font-family:inherit">&nbsp\;</span></em></p>\n\n<p><span style="font-family:inherit">Make your own block printed holiday cards with artist Mary Rhinelander in this four-hour workshop. Students will take inspiration from&nbsp\;</span><em>Designed and Hand-Blocked by the Folly Cove Designers&nbsp\;</em><span style="font-family:inherit">exhibition\, on display through March 12\, 2023. Using simple and familiar designs\, this workshop is a great entrance point for anyone who would like to try their hand at block printing.</span><span style="font-family:inherit">&nbsp\;</span></p>\n\n<p><span style="font-family:inherit">All participants are invited to stay for&nbsp\;</span><em>CAMTalks: Folly Cove Designers</em><span style="font-family:inherit">&nbsp\;with Paula Richter at 2:00 pm in the CAM Auditorium.</span><span style="font-family:inherit">&nbsp\;</span></p>\n
LOCATION:Cape Ann Museum 27 Pleasant St Gloucester\, MA 01930
UID:e.2981.23142
SEQUENCE:3
DTSTAMP:20260424T105622Z
URL:https://business.capeannchamber.com/events/details/cam-studio-workshop-block-print-holiday-cards-23142
END:VEVENT

END:VCALENDAR
