BEGIN:VCALENDAR
VERSION:2.0
PRODID:-//ChamberMaster//Event Calendar 2.0//EN
METHOD:PUBLISH
X-PUBLISHED-TTL:P3D
REFRESH-INTERVAL:P3D
CALSCALE:GREGORIAN
BEGIN:VEVENT
DTSTART:20221102T230000Z
DTEND:20221103T010000Z
X-MICROSOFT-CDO-ALLDAYEVENT:FALSE
SUMMARY:Calliope Brass at Shalin Liu
DESCRIPTION:The acclaimed New York City-based brass quintet makes its Rockport debut with a free community concert for all ages. Calliope Brass collaborates with the world's most prominent creatives to build evocative\, story-driven concert experiences for a variety of audiences. The concert will feature a wide variety of styles\, from pops to classical to swing\, a little something for everyone!
X-ALT-DESC;FMTTYPE=text/html:The acclaimed New York City-based brass quintet makes its Rockport debut with a free community concert for all ages. Calliope Brass collaborates with the world&rsquo\;s most prominent creatives to build evocative\, story-driven concert experiences for a variety of audiences. The concert will feature a wide variety of styles\, from pops to classical to swing\, a little something for everyone!&nbsp\;&nbsp\;
LOCATION:Shalin Liu Performance Center 37 Main St. Rockport\, MA 01966
UID:e.2981.23036
SEQUENCE:3
DTSTAMP:20260424T123158Z
URL:https://business.capeannchamber.com/events/details/calliope-brass-at-shalin-liu-23036
END:VEVENT

END:VCALENDAR
