BEGIN:VCALENDAR
VERSION:2.0
PRODID:-//ChamberMaster//Event Calendar 2.0//EN
METHOD:PUBLISH
X-PUBLISHED-TTL:P3D
REFRESH-INTERVAL:P3D
CALSCALE:GREGORIAN
BEGIN:VEVENT
DTSTART;VALUE=DATE:20250521
DTEND;VALUE=DATE:20250607
TRANSP:TRANSPARENT
X-MICROSOFT-CDO-ALLDAYEVENT:TRUE
SUMMARY:CALL FOR SUBMISSIONS!!! Emerging Artists Open Show 2025 at North Shore Arts Association
DESCRIPTION:The annual Emerging Artists Open Show is the perfect opportunity for students\, art enthusiasts\, and/or artists earlier in their career to exhibit at the historic North Shore Arts Association and The Sargent House Museum in Gloucester\, Massachusetts. One exhibit\, spaced between two renowned locations on Cape Ann\, on display simultaneously for three months. This exhibition is juried for admittance and awards\n\n\n\nAPPLICATION DEADLINE: JUNE 6\, 2025\, BY 11: 59 PM Apply directly on SmarterEntry. \n\nNorth Shore Arts Association Smarter Entry Competition/Calls For Entry Login
X-ALT-DESC;FMTTYPE=text/html:The annual Emerging Artists Open Show is the perfect opportunity for students\, art enthusiasts\, and/or artists earlier in their career to exhibit at the historic North Shore Arts Association and The Sargent House Museum in Gloucester\, Massachusetts. One exhibit\, spaced between two renowned locations on Cape Ann\, on display simultaneously for three months. This exhibition is juried for admittance and awards<br />\n<br />\nAPPLICATION DEADLINE: JUNE 6\, 2025\, BY 11: 59 PM Apply directly on SmarterEntry.&nbsp\;<br />\n<a href="https://client.smarterentry.com/nsarts">North Shore Arts Association Smarter Entry Competition/Calls For Entry Login</a>
LOCATION:Sargent House Museum: 49 Middle St\, Gloucester\, MA 01930 North Shore Arts Association: 11 Pirates Lane\, Gloucester Massachusetts 01930
UID:e.2981.36630
SEQUENCE:3
DTSTAMP:20260424T211200Z
URL:https://business.capeannchamber.com/events/details/call-for-submissions-emerging-artists-36630
END:VEVENT

END:VCALENDAR
