BEGIN:VCALENDAR
VERSION:2.0
PRODID:-//ChamberMaster//Event Calendar 2.0//EN
METHOD:PUBLISH
X-PUBLISHED-TTL:P3D
REFRESH-INTERVAL:P3D
CALSCALE:GREGORIAN
BEGIN:VEVENT
DTSTART:20241103T000000Z
DTEND:20241103T020000Z
X-MICROSOFT-CDO-ALLDAYEVENT:FALSE
SUMMARY:California Guitar Trio
DESCRIPTION:The universe of guitar knows no boundaries for The California Guitar Trio. Since 1991\, the group has enthralled listeners with a singular sound that fearlessly crisscrosses genres. The trio's questing spirit drives it to explore the intersections between rock\, jazz\, classical\, and world music.
X-ALT-DESC;FMTTYPE=text/html:<span style="font-size:14px"><span style="background-color:rgb(250\, 250\, 250)\; color:rgb(0\, 0\, 0)\; font-family:open sans\,helvetica neue\,helvetica\,arial\,sans-serif">The universe of guitar knows no boundaries for The California Guitar Trio. Since 1991\, the group has enthralled listeners with a singular sound that fearlessly crisscrosses genres. The trio&rsquo\;s questing spirit drives it to explore the intersections between rock\, jazz\, classical\, and world music.</span></span>
LOCATION:Shalin Liu 37 Main St\, Rockport\, MA 01966
UID:e.2981.33130
SEQUENCE:3
DTSTAMP:20260424T142718Z
URL:https://business.capeannchamber.com/events/details/california-guitar-trio-33130
END:VEVENT

END:VCALENDAR
