BEGIN:VCALENDAR
VERSION:2.0
PRODID:-//ChamberMaster//Event Calendar 2.0//EN
METHOD:PUBLISH
X-PUBLISHED-TTL:P3D
REFRESH-INTERVAL:P3D
CALSCALE:GREGORIAN
BEGIN:VEVENT
DTSTART:20140711T000000Z
DTEND:20140711T000000Z
X-MICROSOFT-CDO-ALLDAYEVENT:FALSE
SUMMARY:Calder Quartet & Marcus Thompson\, viola
DESCRIPTION:Hailed by the New York Times as ''outstanding…superb\,'' the Calder Quartet defies boundaries by performing a broad range of repertoire.  In this concert\, the Quartet is joined by violist and MIT music faculty member Marcus Thompson to perform works by Mozart\, Webern\, Brahms and Don Davis's Vexed.  tickets: $68/$58/$49
X-ALT-DESC;FMTTYPE=text/html:Hailed by the New York Times as ''outstanding…superb\,'' the Calder Quartet defies boundaries by performing a broad range of repertoire.  In this concert\, the Quartet is joined by violist and MIT music faculty member Marcus Thompson to perform works by Mozart\, Webern\, Brahms and Don Davis's Vexed.  tickets: $68/$58/$49
LOCATION:Shalin Liu Performance Center\, Rockport\, Ma 01966
UID:e.2981.1244
SEQUENCE:3
DTSTAMP:20260419T154635Z
URL:https://business.capeannchamber.com/events/details/calder-quartet-marcus-thompson-viola-07-10-2014-1244
END:VEVENT

END:VCALENDAR
