BEGIN:VCALENDAR
VERSION:2.0
PRODID:-//ChamberMaster//Event Calendar 2.0//EN
METHOD:PUBLISH
X-PUBLISHED-TTL:P3D
REFRESH-INTERVAL:P3D
CALSCALE:GREGORIAN
BEGIN:VEVENT
DTSTART:20221129T220000Z
DTEND:20221130T000000Z
X-MICROSOFT-CDO-ALLDAYEVENT:FALSE
SUMMARY:CAIC (Cape Ann Innovators Collaborative) Six Lightning Talks
DESCRIPTION:Download Flyer\n\n\n\nInform. Inspire. Spark! is a series of 5-minute talks sharing momentum-building work happening on greater Cape Ann in the areas of community celebrations\, investment\, arts and culture\, decarbonization\, coastal resilience\, and design. \n\n\n\nThe lightning talks will be followed by short\, interactive breakout sessions and Q&A at tables where  you can learn ways to get involved.\n\n\n\nTOPICS & SPEAKERS\n\n	400+ Years in 12 Months: Isabel Pett\, Events Manager\, Gloucester 400+\n	The Future of Gloucester's Downtown: David Fields\, Community Development Director\, City of Gloucester\n	Supporting Arts Now: Karen Ristuben\, Program Director at Essex County Community Foundation's Creative County Initiative\n	Electrify Greater Cape Ann: Maureen Aylward\, Director\, TownGreen\, Inc.\n	Demonstrating Coastal Resilience: Dr. Katie Kahl\, UMASS Amherst Gloucester Marine Station\n	Design in Everything: David Minogue\, President of Spade Graphic Design\n\nWhat is the Cape Ann Innovators Collaborative?\n\nAn initiative of the Cape Ann Chamber of Commerce\, CAIC is a collaborative of innovators\, entrepreneurs\, makers\, artists\, designers\, developers and producers dedicated to supporting people from all walks of life in their endeavors to create lasting\, innovative change\, with the ultimate objective of growing the economy and creating new jobs. The CAIC Forums are designed to Inform and Inspire.
X-ALT-DESC;FMTTYPE=text/html:<a href="https://chambermaster.blob.core.windows.net/userfiles/UserFiles/chambers/2981/File/CAIC-Nov-Lightning-Flyer-RevB.pdf" target="_blank">Download Flyer</a><br />\n<br />\nInform. Inspire. Spark! is a series of 5-minute talks sharing momentum-building work happening on greater Cape Ann in the areas of community celebrations\, investment\, arts and culture\, decarbonization\, coastal resilience\, and design.&nbsp\;<br />\n<br />\nThe lightning talks will be followed by short\, interactive breakout sessions and Q&amp\;A at tables where&nbsp\; you can learn ways to get involved.<br />\n<br />\nTOPICS &amp\; SPEAKERS\n<ul>\n	<li><em><strong>400+ Years in 12 Months:</strong></em> Isabel Pett\, Events Manager\, Gloucester 400+</li>\n	<li><em><strong>The Future of Gloucester&rsquo\;s Downtown:</strong></em> David Fields\, Community Development Director\, City of Gloucester</li>\n	<li><em><strong>Supporting Arts Now:</strong></em> Karen Ristuben\, Program Director at Essex County Community Foundation&#39\;s Creative County Initiative</li>\n	<li><em><strong>Electrify Greater Cape Ann:</strong></em> Maureen Aylward\, Director\, TownGreen\, Inc.</li>\n	<li><em><strong>Demonstrating Coastal Resilience:</strong></em> Dr. Katie Kahl\, UMASS Amherst&nbsp\;Gloucester Marine Station</li>\n	<li><em><strong>Design in Everything:</strong></em> David Minogue\, President of Spade Graphic Design</li>\n</ul>\n<strong>What is the Cape Ann Innovators Collaborative?</strong><br />\nAn initiative of the Cape Ann Chamber of Commerce\, CAIC is a collaborative of innovators\, entrepreneurs\, makers\, artists\, designers\, developers and producers dedicated to supporting people from all walks of life in their endeavors to create lasting\, innovative change\, with the ultimate objective of growing the economy and creating new jobs. The CAIC Forums are designed to Inform and Inspire.&nbsp\;
LOCATION:Cruiseport- Downstairs 6 Rowe Square Gloucester
UID:e.2981.23281
SEQUENCE:3
DTSTAMP:20260424T123148Z
URL:https://business.capeannchamber.com/events/details/caic-cape-ann-innovators-collaborative-six-lightning-talks-23281
END:VEVENT

END:VCALENDAR
