BEGIN:VCALENDAR
VERSION:2.0
PRODID:-//ChamberMaster//Event Calendar 2.0//EN
METHOD:PUBLISH
X-PUBLISHED-TTL:P3D
REFRESH-INTERVAL:P3D
CALSCALE:GREGORIAN
BEGIN:VEVENT
DTSTART:20250408T200000Z
DTEND:20250408T210000Z
X-MICROSOFT-CDO-ALLDAYEVENT:FALSE
SUMMARY:Businesswomen's Spring Committee Meeting
DESCRIPTION:Businesswomen's Spring Committee Meeting:\n\nPlease join us to help put the finishing touches on our upcoming 'Swing into Spring' Women's Golf Event (with Cinco de Mayo After-Party!) and our Summer Mixer at the Sargent House in Gloucester. Proceeds from all of our events benefit the Businesswomen's Opportunity Fund. We appreciate your energy and support as we strive to empower the innovative Women of greater Cape Ann!
X-ALT-DESC;FMTTYPE=text/html:Businesswomen&#39\;s Spring Committee Meeting:<br />\nPlease join us to help put the finishing touches on our upcoming&nbsp\;<a href="https://business.capeannchamber.com/events/details/swing-into-spring-a-women-s-golf-event-2025-34862?calendarMonth=2025-05-01">&#39\;Swing into Spring&#39\;</a> Women&#39\;s Golf Event (with Cinco de Mayo After-Party!) and our <a href="https://business.capeannchamber.com/events/details/businesswomen-s-summer-mixer-at-the-sargent-house-34882?calendarMonth=2025-07-01">Summer Mixer at the Sargent House</a> in Gloucester. Proceeds from all of our events benefit the <a href="https://capeannchamber.com/committees/businesswomens-committee/">Businesswomen&#39\;s Opportunity Fund</a>. We appreciate your energy and support as we strive to empower the innovative Women of greater Cape Ann!
LOCATION:Egan Law Center/ Poppy Legal Group Light snacks & beverages provided
UID:e.2981.34876
SEQUENCE:3
DTSTAMP:20260424T153824Z
URL:https://business.capeannchamber.com/events/details/businesswomen-s-spring-committee-meeting-34876
END:VEVENT

END:VCALENDAR
