BEGIN:VCALENDAR
VERSION:2.0
PRODID:-//ChamberMaster//Event Calendar 2.0//EN
METHOD:PUBLISH
X-PUBLISHED-TTL:P3D
REFRESH-INTERVAL:P3D
CALSCALE:GREGORIAN
BEGIN:VEVENT
DTSTART:20250709T210000Z
DTEND:20250709T230000Z
X-MICROSOFT-CDO-ALLDAYEVENT:FALSE
SUMMARY:Businesswomen's Mixer at the Sargent House - Summer 2025
DESCRIPTION:Join us for a summer networking gathering with light refreshments on the beautiful lawn of the Sargent House Museum. Enjoy a guided tour of the historic home of Judith Sargent Murray\, prominent 18th-century essayist\, playwright\, and advocate for women's rights\, plus a special art exhibition featuring emerging artists sponsored by the North Shore Art Association.\n\n*Limited attendance   please register early to secure your spot.
X-ALT-DESC;FMTTYPE=text/html:<p class="whitespace-normal break-words"><span style="font-size:14px\;"><span style="font-family:arial\;">Join us for a summer networking gathering with light refreshments on the beautiful lawn of the Sargent House Museum. Enjoy a guided tour of the historic home of Judith Sargent Murray\, prominent 18th-century essayist\, playwright\, and advocate for women&#39\;s rights\, plus a special art exhibition featuring emerging artists sponsored by the North Shore Art Association.</span></span></p>\n\n<p class="whitespace-normal break-words"><span style="font-size:14px\;"><span style="font-family:arial\;">*Limited attendance &ndash\; please register early to secure your spot.</span></span></p>\n
LOCATION:The Sargent House Museum
UID:e.2981.34882
SEQUENCE:3
DTSTAMP:20260424T223600Z
URL:https://business.capeannchamber.com/events/details/businesswomen-s-mixer-at-the-sargent-house-summer-2025-34882
END:VEVENT

END:VCALENDAR
