BEGIN:VCALENDAR
VERSION:2.0
PRODID:-//ChamberMaster//Event Calendar 2.0//EN
METHOD:PUBLISH
X-PUBLISHED-TTL:P3D
REFRESH-INTERVAL:P3D
CALSCALE:GREGORIAN
BEGIN:VEVENT
DTSTART:20250812T200000Z
DTEND:20250812T210000Z
X-MICROSOFT-CDO-ALLDAYEVENT:FALSE
SUMMARY:Businesswomen's Committee Meeting - Late Summer 2025
DESCRIPTION:Businesswomen's late summer Committee Meeting:\n\nPlease join us to help plan our annual Luncheon at the Beauport Hotel in late October. All proceeds from all of our events benefit the Businesswomen's Opportunity Fund. We appreciate your energy and support as we strive to empower the innovative Women of greater Cape Ann!
X-ALT-DESC;FMTTYPE=text/html:Businesswomen&#39\;s late summer Committee Meeting:<br />\nPlease join us to help plan our annual Luncheon at the Beauport Hotel in late October. All proceeds from all of our events benefit the <a href="https://capeannchamber.com/committees/businesswomens-committee/">Businesswomen&#39\;s Opportunity Fund</a>. We appreciate your energy and support as we strive to empower the innovative Women of greater Cape Ann!
LOCATION:Egan Law Center/ Poppy Legal Group Light snacks & beverages provided
UID:e.2981.34878
SEQUENCE:3
DTSTAMP:20260425T000332Z
URL:https://business.capeannchamber.com/events/details/businesswomen-s-committee-meeting-late-summer-2025-34878
END:VEVENT

END:VCALENDAR
