BEGIN:VCALENDAR
VERSION:2.0
PRODID:-//ChamberMaster//Event Calendar 2.0//EN
METHOD:PUBLISH
X-PUBLISHED-TTL:P3D
REFRESH-INTERVAL:P3D
CALSCALE:GREGORIAN
BEGIN:VEVENT
DTSTART:20241119T123000Z
DTEND:20241119T140000Z
X-MICROSOFT-CDO-ALLDAYEVENT:FALSE
SUMMARY:Business Sustainability Speaker Series: Black Earth Compost
DESCRIPTION:Down to Earth Business Solutions:  Sustainability through Composting\n\n\n\nYou are invited to Cake Ann in Gloucester for FREE coffee\, pastries\, and "a side of sustainability" to learn how businesses like yours can benefit from composting during the final installment of a three-part speaker series about sustainable business practices.\n\n\n\nThis session features Black Earth Compost\, a local composting company founded in 2011. Black Earth Compost's Justin Sandler will highlight the opportunities composting can afford to businesses. Matt Cawley from Short and Main in Gloucester will share his experience with Black Earth's program.\n\n \nYou'll learn about the benefits of composting for your business:\n\n \n\nMarketing opportunities: Businesses are highlighted to local residents that use our service. People like to support restaurants that do the right thing with their food scraps.\n\nDestination of trash vs. compost" Compost is processed locally in Manchester-by-the-Sea whereas some MA trash ends up in landfills as far away as Alabama.\n\nNutrient recycling and rebuilding our local soil: Compost is used by nearby farmers and Backyard Growers to grow local healthy food\n\nSupporting our local circular economies\n\nBlack earth Compost is is a Gloucester-based company focused on closing the loop on food production\n\n\nA Q & A session will follow the presentation.  \n\n\n\nThis program is sponsored by the Greater Cape Ann Chamber of Commerce's Business Sustainability Committee and is sponsored by TownGreen.
X-ALT-DESC;FMTTYPE=text/html:<span style="font-size:18px\;"><strong><span style="color:#006400\;">Down to Earth Business Solutions:&nbsp\; Sustainability through Composting</span></strong><br />\n<br />\nYou are invited to Cake Ann in Gloucester for FREE coffee\, pastries\, and &quot\;a side of sustainability&quot\; to learn how businesses like yours can benefit from composting during the final installment of a three-part speaker series about sustainable business practices.<br />\n<br />\nThis session features Black Earth Compost\,&nbsp\;a local composting company founded in 2011. Black Earth Compost&#39\;s Justin Sandler will highlight the opportunities composting can afford to businesses. Matt Cawley from Short and Main in Gloucester will share his experience with Black Earth&#39\;s program.</span><br />\n&nbsp\;\n<div><span style="font-size:18px\;">You&#39\;ll learn about the benefits of composting for your business:</span><br />\n&nbsp\;</div>\n\n<div><strong><span style="font-size:18px\;">Marketing opportunities:&nbsp\;</span></strong><span style="font-size:18px\;">Businesses are highlighted to local residents that use our service. People like to support restaurants that do the right thing with their food scraps.</span></div>\n\n<div><strong><span style="font-size:18px\;">Destination of trash vs. compost&quot\;&nbsp\;</span></strong><span style="font-size:18px\;">Compost is processed locally in Manchester-by-the-Sea whereas some MA trash ends up in landfills as far away as Alabama.</span></div>\n\n<div><strong><span style="font-size:18px\;">Nutrient recycling and rebuilding our local soil:&nbsp\;</span></strong><span style="font-size:18px\;">Compost is used by nearby farmers and Backyard Growers to grow local healthy food</span></div>\n\n<div><strong><span style="font-size:18px\;">Supporting our local circular economies</span></strong></div>\n\n<div><span style="font-size:18px\;">Black earth Compost is is a Gloucester-based company focused on closing the loop on food production</span></div>\n<br />\n<span style="font-size:18px\;">A Q &amp\; A session will follow the presentation.&nbsp\;&nbsp\;<br />\n<br />\nThis program is sponsored by the Greater Cape Ann Chamber of Commerce&#39\;s Business Sustainability Committee and is sponsored by TownGreen.</span><br />\n<br />\n<br />\n<br />\n&nbsp\;
LOCATION:Cake Ann 63 Rogers Street Gloucester\, MA
UID:e.2981.34099
SEQUENCE:3
DTSTAMP:20260424T140454Z
URL:https://business.capeannchamber.com/events/details/business-sustainability-speaker-series-black-earth-compost-34099
END:VEVENT

END:VCALENDAR
