BEGIN:VCALENDAR
VERSION:2.0
PRODID:-//ChamberMaster//Event Calendar 2.0//EN
METHOD:PUBLISH
X-PUBLISHED-TTL:P3D
REFRESH-INTERVAL:P3D
CALSCALE:GREGORIAN
BEGIN:VEVENT
DTSTART:20251015T210000Z
DTEND:20251015T230000Z
X-MICROSOFT-CDO-ALLDAYEVENT:FALSE
SUMMARY:Business After Hours - Mariposa & Friends
DESCRIPTION:Ready to mix\, mingle\, and make connections? Join the Greater Cape Ann Chamber of Commerce for a fun evening of networking at Mariposa & Friends\, a charming boutique featuring curated luxury gifting brands in scenic Manchester by the Sea!\n\nCome unwind after work while browsing beautiful gifts and meeting fellow business owners\, entrepreneurs\, and professionals from across greater Cape Ann. Enjoy great conversations\, light refreshments and beverages\, and the perfect opportunity to grow your network in a relaxed\, elegant setting.\n\nWhether you're looking to spark new partnerships\, share ideas\, or simply connect with your local business community\, this is your chance to expand your circle while discovering unique finds at one of Cape Ann's favorite boutiques!\n\nAll Chamber members and future members are welcome. See you there!
X-ALT-DESC;FMTTYPE=text/html:<p class="whitespace-normal break-words"><span style="font-size:16px\;"><span style="font-family:arial\;">Ready to mix\, mingle\, and make connections? Join the Greater Cape Ann Chamber of Commerce for a fun evening of networking at Mariposa &amp\; Friends\, a charming boutique featuring curated luxury gifting brands in scenic Manchester by the Sea!</span></span></p>\n\n<p class="whitespace-normal break-words"><span style="font-size:16px\;"><span style="font-family:arial\;">Come unwind after work while browsing beautiful gifts and meeting fellow business owners\, entrepreneurs\, and professionals from across greater Cape Ann. Enjoy great conversations\, light refreshments and beverages\, and the perfect opportunity to grow your network in a relaxed\, elegant setting.</span></span></p>\n\n<p class="whitespace-normal break-words"><span style="font-size:16px\;"><span style="font-family:arial\;">Whether you&#39\;re looking to spark new partnerships\, share ideas\, or simply connect with your local business community\, this is your chance to expand your circle while discovering unique finds at one of Cape Ann&#39\;s favorite boutiques!</span></span></p>\n\n<p class="whitespace-normal break-words"><span style="font-size:16px\;"><span style="font-family:arial\;">All Chamber members and future members are welcome. See you there!</span></span></p>\n&nbsp\;\n\n<p data-end="383" data-start="200">&nbsp\;</p>\n
LOCATION:Mariposa & Friends 5 Elm Street Manchester-by-the-Sea
UID:e.2981.37430
SEQUENCE:3
DTSTAMP:20260425T024226Z
URL:https://business.capeannchamber.com/events/details/business-after-hours-mariposa-friends-37430
END:VEVENT

END:VCALENDAR
