BEGIN:VCALENDAR
VERSION:2.0
PRODID:-//ChamberMaster//Event Calendar 2.0//EN
METHOD:PUBLISH
X-PUBLISHED-TTL:P3D
REFRESH-INTERVAL:P3D
CALSCALE:GREGORIAN
BEGIN:VEVENT
DTSTART:20250820T210000Z
DTEND:20250820T230000Z
X-MICROSOFT-CDO-ALLDAYEVENT:FALSE
SUMMARY:Business After Hours - Floriana
DESCRIPTION:Join us at Floriana in Ipswich at the Hellenic Center for our August Business After Hours   a fun and casual evening of networking\, light appetizers\, and great company. A cash bar will be available.\n\nWe encourage Chamber members to bring their team or colleagues\, and if you can't attend\, feel free to send someone in your place.\n\n\n\nNot a member yet? Come experience a little of what our Chamber is all about   all are welcome.\n\nWhether you're a longtime member or just curious about what we do\, we hope to see you there!
X-ALT-DESC;FMTTYPE=text/html:<p data-end="383" data-start="200"><span style="font-size:14px\;">Join us at <a href="https://www.florianaipswich.com/events" target="_blank"><strong data-end="234" data-start="211">Floriana in Ipswich</strong></a>&nbsp\;at the Hellenic Center for our August Business After Hours&nbsp\;&ndash\; a fun and casual evening of networking\, light appetizers\, and great company. A cash bar will be available.</span></p>\n\n<p data-end="514" data-start="385"><span style="font-size:14px\;">We encourage Chamber members to bring their team or colleagues\, and if you can&rsquo\;t attend\, feel free to send someone in your place.<br />\n<br />\nNot a member yet? Come experience a little of what our Chamber is all about &ndash\; all are welcome.<br />\nWhether you&#39\;re a longtime member or just curious about what we do\, we hope to see you there!</span><br />\n<br />\n&nbsp\;</p>\n
LOCATION:Floriana 117 County Road Ipswich\, MA 01938
UID:e.2981.36660
SEQUENCE:3
DTSTAMP:20260424T235633Z
URL:https://business.capeannchamber.com/events/details/business-after-hours-floriana-36660
END:VEVENT

END:VCALENDAR
