BEGIN:VCALENDAR
VERSION:2.0
PRODID:-//ChamberMaster//Event Calendar 2.0//EN
METHOD:PUBLISH
X-PUBLISHED-TTL:P3D
REFRESH-INTERVAL:P3D
CALSCALE:GREGORIAN
BEGIN:VEVENT
DTSTART:20220115T190000Z
DTEND:20220115T210000Z
X-MICROSOFT-CDO-ALLDAYEVENT:FALSE
SUMMARY:Buried History of Gloucester
DESCRIPTION:Gloucester oldest cemetery\, First Parish Burial Ground\, reflects the city's 400-year history. A dedicated group of volunteers has worked to restore and preserve it for many years. Join Carol Kelly of Gloucester Cemetery Committee for a (virtual) stroll through this historic space.  Registration not required.
X-ALT-DESC;FMTTYPE=text/html:<span style="color:black\; font-family:helvetica\; font-size:10pt">Gloucester oldest cemetery\, First&nbsp\;Parish Burial Ground\, reflects the city&rsquo\;s 400-year history. A dedicated&nbsp\;group of volunteers&nbsp\;has worked to restore and preserve it for many years. Join&nbsp\;Carol&nbsp\;Kelly of&nbsp\;Gloucester Cemetery&nbsp\;Committee&nbsp\;for a (virtual) stroll&nbsp\;through this historic space.&nbsp\;&nbsp\;Registration not required.&nbsp\;</span>
LOCATION:Sawyer Free Library 2 Dale Avenue\, Gloucester\, MA
UID:e.2981.21733
SEQUENCE:3
DTSTAMP:20260424T100441Z
URL:https://business.capeannchamber.com/events/details/buried-history-of-gloucester-21733
END:VEVENT

END:VCALENDAR
