BEGIN:VCALENDAR
VERSION:2.0
PRODID:-//ChamberMaster//Event Calendar 2.0//EN
METHOD:PUBLISH
X-PUBLISHED-TTL:P3D
REFRESH-INTERVAL:P3D
CALSCALE:GREGORIAN
BEGIN:VEVENT
DTSTART:20251007T123000Z
DTEND:20251007T143000Z
X-MICROSOFT-CDO-ALLDAYEVENT:FALSE
SUMMARY:Building a Better Business Plan
DESCRIPTION:Being a successful business requires the owner (YOU) to develop a level of discipline in leadership\, planning & operations. Crafting and using a practical business plan is a required component that can feel a bit overwhelming. Learn:\n\n	Why a business plan is a must\n	Components of a business plan\n	How not to be overwhelmed\n	How to get started\n\nFacilitator Tom Kristoph
X-ALT-DESC;FMTTYPE=text/html:<span style="color:#222222"><span style="font-family:arial\,sans-serif"><span style="font-size:11.0pt">Being a successful business requires the owner (YOU) to develop a level of discipline&nbsp\;in leadership\, planning &amp\; operations. Crafting and using a practical business plan is a required component that can feel a bit overwhelming. Learn:</span></span></span>\n<ul>\n	<li><span style="color:#222222"><span style="font-family:arial\,sans-serif"><span style="font-size:11.0pt">Why a business plan is a must</span></span></span></li>\n	<li><span style="color:#222222"><span style="font-family:arial\,sans-serif"><span style="font-size:11.0pt">Components of a business plan</span></span></span></li>\n	<li><span style="color:#222222"><span style="font-family:arial\,sans-serif"><span style="font-size:11.0pt">How not to be overwhelmed</span></span></span></li>\n	<li><span style="color:#222222"><span style="font-family:arial\,sans-serif"><span style="font-size:11.0pt">How to get started</span></span></span></li>\n</ul>\n<span style="color:#222222"><span style="font-family:arial\,sans-serif"><span style="font-size:11.0pt">Facilitator Tom Kristoph</span></span></span>
LOCATION:Enterprise Center at Salem State University 121 Loring Avenue Salem\, MA 01970
UID:e.2981.43030
SEQUENCE:3
DTSTAMP:20260425T023237Z
URL:https://business.capeannchamber.com/events/details/building-a-better-business-plan-43030
END:VEVENT

END:VCALENDAR
