BEGIN:VCALENDAR
VERSION:2.0
PRODID:-//ChamberMaster//Event Calendar 2.0//EN
METHOD:PUBLISH
X-PUBLISHED-TTL:P3D
REFRESH-INTERVAL:P3D
CALSCALE:GREGORIAN
BEGIN:VEVENT
DTSTART:20140720T140000Z
DTEND:20140720T140000Z
X-MICROSOFT-CDO-ALLDAYEVENT:FALSE
SUMMARY:Budhist Meditation and Healing
DESCRIPTION:Qi Generating and Releasing Meditation Class. Includes empowerment so that your hands will emit healing light. The ''Treasure Vase'' Dharma Practices Energize the body\, Open the Qi channels\, Help the mind achieve Purity & Stillness\, and include a Core Empowerment for performing Three Mysteries Healings using Mantra\, Mudra\, and Visualization. You will feel the energy!! This is a Foundation Practice of the Chinese Esoteric School and includes the Body Warming and Cooling Methods. These techniques give healers using other systems a boost in their practice. The Relieve Fatigue Dharma practice will also be transmitted. It is Simple\, Short and Effective.
X-ALT-DESC;FMTTYPE=text/html:Qi Generating and Releasing Meditation Class. Includes empowerment so that your hands will emit healing light. The ''Treasure Vase'' Dharma Practices Energize the body\, Open the Qi channels\, Help the mind achieve Purity & Stillness\, and include a Core Empowerment for performing Three Mysteries Healings using Mantra\, Mudra\, and Visualization. You will feel the energy!! This is a Foundation Practice of the Chinese Esoteric School and includes the Body Warming and Cooling Methods. These techniques give healers using other systems a boost in their practice. The Relieve Fatigue Dharma practice will also be transmitted. It is Simple\, Short and Effective.
LOCATION:222 Eastern Avenue\, Gloucester\, MA 01930 222 Arts & Wellness Center
UID:e.2981.1435
SEQUENCE:3
DTSTAMP:20260419T154943Z
URL:https://business.capeannchamber.com/events/details/budhist-meditation-and-healing-07-20-2014-1435
END:VEVENT

END:VCALENDAR
