BEGIN:VCALENDAR
VERSION:2.0
PRODID:-//ChamberMaster//Event Calendar 2.0//EN
METHOD:PUBLISH
X-PUBLISHED-TTL:P3D
REFRESH-INTERVAL:P3D
CALSCALE:GREGORIAN
BEGIN:VEVENT
DTSTART:20250723T140000Z
DTEND:20250723T151500Z
X-MICROSOFT-CDO-ALLDAYEVENT:FALSE
SUMMARY:Bubbles & Books Storytime at Hammond Castle Museum
DESCRIPTION:Join us every Wednesday morning in July & August for Bubbles and Books on our seaside lawn. Fairytales do come true at castles by the sea!\n\n\n\nDoors: 10 am / Stories begin about 10:20 am.\n\n\n\nStart the morning with a bubble party featuring music\, crafts\, and a light snack. Around 10:20 am\, we'll gather on the ocean-facing lawn for storytime bring a cozy blanket for your little one to cuddle up on while we enjoy tales by the sea.\n\n\n\nThis season\, our Storybook Authors theme brings special guest readers whenever possible! Some of the wonderful books in our lineup include\, but are not limited to:\n\n-  The Fisherman's Cat by Cassie Rita Austin\n\n-  A Day in Gloucester by S.D. Kelly\n\n- The Seagull and the Sea Captain by Sy Montgomery\n\n\n\nAfter storytime\, we'll enjoy more bubbles and end the morning with a scavenger hunt around the grounds.\n\n\n\nDon't forget sunscreen\, and we encourage little ones to come dressed in their favorite crown\, cape\, or whatever makes them feel magical!\n\n\n\nTickets for this event are $10 for ages 8 to adults\, and kids ages 7 and under are only $5. Hammond Castle Museum Member savings apply. \n\n\n\nWe recommend that you arrive 15 minutes early to allow enough time for the walk from the parking lot down to the museum\, then for the check-in process and the walk to the lawn. There are many stairs throughout the campus and inside the Museum. Just to let you know\, strollers and oversized baby carriers are not allowed in the Museum.\n\n\n\nThis ticket grants you access to the Bubbles & Books program\, which will be held on the ocean-facing lawn. If you wish to tour the Museum after this program\, ticket holders may purchase Self-Guided Tour tickets in the Museum Shop at a 20% discount.  Little ones 4 and under enjoy FREE admission to guided and self-guided tours! \n\n\n\nRain or Shine. Tickets are non-refundable and non-transferable.  All proceeds from this program will support the restoration and preservation of the Museum.
X-ALT-DESC;FMTTYPE=text/html:<strong><span style="color:#181818"><span style="font-family:calibri light\,sans-serif"><span style="font-size:12.0pt">Join us every Wednesday morning in July &amp\; August for Bubbles and Books on our seaside lawn. Fairytales do come true at castles by the sea!</span></span></span></strong><br />\n<br />\nDoors: 10 am / Stories begin about 10:20 am.<br />\n<br />\nStart the morning with a bubble party featuring music\, crafts\, and a light snack. Around 10:20 am\, we&rsquo\;ll gather on the ocean-facing lawn for storytime&mdash\;bring a cozy blanket for your little one to cuddle up on while we enjoy tales by the sea.<br />\n<br />\nThis season\, our Storybook Authors theme brings special guest readers whenever possible! Some of the wonderful books in our lineup include\, but are not limited to:<br />\n-&nbsp\; The Fisherman&rsquo\;s Cat by Cassie Rita Austin<br />\n-&nbsp\; A Day in Gloucester by S.D. Kelly<br />\n- The Seagull and the Sea Captain by Sy Montgomery<br />\n<br />\nAfter storytime\, we&rsquo\;ll enjoy more bubbles and end the morning with a scavenger hunt around the grounds.<br />\n<br />\nDon&rsquo\;t forget sunscreen\, and we encourage little ones to come dressed in their favorite crown\, cape\, or whatever makes them feel magical!<br />\n<br />\nTickets for this event are $10 for ages 8 to adults\, and kids ages 7 and under are only $5. Hammond Castle Museum Member savings apply.&nbsp\;<br />\n<br />\nWe recommend that you arrive 15 minutes early to allow enough time for the walk from the parking lot down to the museum\, then for the check-in process and the walk to the lawn. There are many stairs throughout the campus and inside the Museum. Just to let you know\, strollers and oversized baby carriers are not allowed in the Museum.<br />\n<br />\nThis ticket grants you access to the Bubbles &amp\; Books program\, which will be held on the ocean-facing lawn. If you wish to tour the Museum after this program\, ticket holders may purchase Self-Guided Tour tickets in the Museum Shop at a 20% discount.&nbsp\; Little ones 4 and under enjoy FREE admission to guided and self-guided tours!&nbsp\;<br />\n<br />\nRain or Shine. Tickets are non-refundable and non-transferable.&nbsp\; All proceeds from this program will support the restoration and preservation of the Museum.
LOCATION:Hammond Castle Museum 80 Hesperus Avenue Gloucester\, MA
UID:e.2981.37289
SEQUENCE:3
DTSTAMP:20260424T223443Z
URL:https://business.capeannchamber.com/events/details/bubbles-books-storytime-at-hammond-castle-museum-07-23-2025-37289
END:VEVENT

END:VCALENDAR
