BEGIN:VCALENDAR
VERSION:2.0
PRODID:-//ChamberMaster//Event Calendar 2.0//EN
METHOD:PUBLISH
X-PUBLISHED-TTL:P3D
REFRESH-INTERVAL:P3D
CALSCALE:GREGORIAN
BEGIN:VEVENT
DTSTART:20250614T230000Z
DTEND:20250615T010000Z
X-MICROSOFT-CDO-ALLDAYEVENT:FALSE
SUMMARY:British Invasion - From Antiquity to the Beatles
DESCRIPTION:Chorus North Shore presents a lively variety of British composers - Handel\, Britten\, The Beatles and many others
X-ALT-DESC;FMTTYPE=text/html:Chorus North Shore presents a lively variety of British composers - Handel\, Britten\, The Beatles and many others
LOCATION:Dolan Performing Arts Center\, 130 High Street\, Ipswich
UID:e.2981.36619
SEQUENCE:3
DTSTAMP:20260424T211404Z
URL:https://business.capeannchamber.com/events/details/british-invasion-from-antiquity-to-the-beatles-36619
END:VEVENT

END:VCALENDAR
