BEGIN:VCALENDAR
VERSION:2.0
PRODID:-//ChamberMaster//Event Calendar 2.0//EN
METHOD:PUBLISH
X-PUBLISHED-TTL:P3D
REFRESH-INTERVAL:P3D
CALSCALE:GREGORIAN
BEGIN:VEVENT
DTSTART:20190613T113000Z
DTEND:20190613T130000Z
X-MICROSOFT-CDO-ALLDAYEVENT:FALSE
SUMMARY:Breakfast with the Governor
DESCRIPTION:Join us at the Gloucester House for a Breakfast with Governor Baker.\n\n \nGovernor Charlie Baker was sworn in for a second term as the 72nd Governor of the Commonwealth of Massachusetts on January 3\, 2019\, after a first term focused on moving Massachusetts forward through bipartisan\, results-driven leadership.\n\n \n\nGovernor Baker has used public private partnerships to spur economic development\, reformed the state's regulatory environment\, and delivered critical tax relief by doubling the Earned Income Tax Credit. \n\n \n\nEnsuring Massachusetts continues to be a national leader in education\, Governor Baker has made historic investments in K-12 education\, increased support for vocational and technical schools\, and expanded early college opportunities for high school students. \n\n \n\nGovernor Baker has put Massachusetts at the forefront of fighting the opioid and heroin epidemic\, doubling spending on prevention\, education\, treatment\, and recovery and signing two major bills that have served as models for other states.\n\n \n\nConfronted with the challenges of rising energy costs and a changing climate\, Governor Baker has taken nation-leading steps to diversify the Commonwealth's energy portfolio\, safeguard residents\, municipalities and businesses from the impacts of climate change\, and secure progress toward greenhouse gas reduction targets.\n\n \n\nGovernor Baker has spearheaded long overdue reforms at the MBTA that have led to significant improvements to operations and finances\, and put the T on track to spend more than $8 billion on infrastructure over the next five years to improve riders' experience. \n\n \n\nPrior to his election\, Governor Baker was a highly successful leader of complex business and government organizations\, serving as a cabinet secretary to both Governor William Weld and Paul Cellucci\, and leading Harvard Pilgrim Health Care\, as CEO\, from the brink of bankruptcy to one of the nation's highest ranked health care providers.\n\n \n\nRaised in Needham\, Governor Baker and his wife Lauren reside in Swampscott\, and are the proud parents of their three children\, Charlie\, AJ\, and Caroline.
X-ALT-DESC;FMTTYPE=text/html:Join us at the Gloucester House for a Breakfast with Governor Baker.<br />\n&nbsp\;\n<p style="margin: 0px\;"><span style="margin: 0px\; font-size: 14pt\;">Governor Charlie Baker was sworn in for a second term as the 72nd Governor of the Commonwealth of Massachusetts on January 3\, 2019\, after a first term focused on moving Massachusetts forward through bipartisan\, results-driven leadership.</span></p>\n\n<p style="margin: 0px\;"><span style="margin: 0px\; font-size: 14pt\;">&nbsp\;</span></p>\n\n<p style="margin: 0px\;"><span style="margin: 0px\; font-size: 14pt\;">Governor Baker has used public private partnerships to spur economic development\, reformed the state&rsquo\;s regulatory environment\, and delivered critical tax relief by doubling the Earned Income Tax Credit. </span></p>\n\n<p style="margin: 0px\;"><span style="margin: 0px\; font-size: 14pt\;">&nbsp\;</span></p>\n\n<p style="margin: 0px\;"><span style="margin: 0px\; font-size: 14pt\;">Ensuring Massachusetts continues to be a national leader in education\, Governor Baker has made historic investments in K-12 education\, increased support for vocational and technical schools\, and expanded early college opportunities for high school students. </span></p>\n\n<p style="margin: 0px\;"><span style="margin: 0px\; font-size: 14pt\;">&nbsp\;</span></p>\n\n<p style="margin: 0px\;"><span style="margin: 0px\; font-size: 14pt\;">Governor Baker has put Massachusetts at the forefront of fighting the opioid and heroin epidemic\, doubling spending on prevention\, education\, treatment\, and recovery and signing two major bills that have served as models for other states.</span></p>\n\n<p style="margin: 0px\;"><span style="margin: 0px\; font-size: 14pt\;">&nbsp\;</span></p>\n\n<p style="margin: 0px\;"><span style="margin: 0px\; font-size: 14pt\;">Confronted with the challenges of rising energy costs and a changing climate\, Governor Baker has taken nation-leading steps to diversify the Commonwealth&rsquo\;s energy portfolio\, safeguard&nbsp\;residents\, municipalities and businesses from the impacts of climate change\, and&nbsp\;secure progress toward greenhouse gas reduction targets.</span></p>\n\n<p style="margin: 0px\;"><span style="margin: 0px\; font-size: 14pt\;">&nbsp\;</span></p>\n\n<p style="margin: 0px\;"><span style="margin: 0px\; font-size: 14pt\;">Governor Baker has spearheaded long overdue reforms at the MBTA that have led to significant improvements to operations and finances\, and put the T on track to spend more than $8 billion on infrastructure over the next five years to improve riders&rsquo\; experience. </span></p>\n\n<p style="margin: 0px\;"><span style="margin: 0px\; font-size: 14pt\;">&nbsp\;</span></p>\n\n<p style="margin: 0px\;"><span style="margin: 0px\; font-size: 14pt\;">Prior to his election\, Governor Baker was a highly successful leader of complex business and government organizations\, serving as a cabinet secretary to both Governor William Weld and Paul Cellucci\, and leading Harvard Pilgrim Health Care\, as CEO\, from the brink of bankruptcy to one of the nation&rsquo\;s highest ranked health care providers.</span></p>\n\n<p style="margin: 0px\;"><span style="margin: 0px\; font-size: 14pt\;">&nbsp\;</span></p>\n\n<p style="margin: 0px\;"><span style="margin: 0px\; font-size: 14pt\;">Raised in Needham\, Governor Baker and his wife Lauren reside in Swampscott\, and are the proud parents of their three children\, Charlie\, AJ\, and Caroline.</span></p>\n
LOCATION:Gloucester House Restaurant 63 Rogers Street Gloucester
UID:e.2981.14748
SEQUENCE:3
DTSTAMP:20260422T042516Z
URL:https://business.capeannchamber.com/events/details/breakfast-with-the-governor-14748
END:VEVENT

END:VCALENDAR
