BEGIN:VCALENDAR
VERSION:2.0
PRODID:-//ChamberMaster//Event Calendar 2.0//EN
METHOD:PUBLISH
X-PUBLISHED-TTL:P3D
REFRESH-INTERVAL:P3D
CALSCALE:GREGORIAN
BEGIN:VEVENT
DTSTART:20251220T003000Z
DTEND:20251220T040000Z
X-MICROSOFT-CDO-ALLDAYEVENT:FALSE
SUMMARY:BrassFed Nation Holiday Bash
DESCRIPTION:Reserved Seating $30 + $6.95 service fee\n\nGA Standing $15 + $4.95 service fee\n\nGA Standing w/ Student ID $10 + $4.95 service fee\n\n7:00pm Doors\, 7:30pm Show\n\nALL AGES (under 18 mus be accompanied by a parent/guardian)\n\n\n\nCarlos Menezes Jr's BrassFed Nation is a horn-driven groove machine with a unique sound incorporating the styles and traditions of early Jazz\, New Orleans Funk & Soul\, Rhythm & Blues\, Calypso\, and Jamaican Ska!\n\n\n\nFounded  in 2013\, The BrassFed Nation is dedicated to the advancement of horn-driven music through exposure and outreach in both education and local musical culture! The collective features 3 unique ensembles\; Cape Ann Big Band\, The Jambalaya Horns\, and The 13-Piece DubTone Orchestra - all striving to inspire and connect musicians of all ages through performances\, private studio lessons\, workshops\, and interactive clinics. \n\n\n\nABOUT THIS PERFORMANCE:\n\nPaying homage to the infectious beats and sounds of New Orleans\, the BrassFed Orchestra will cue the "Big Four'' and transport audience members to the streets of the Crescent City for a Holiday Celebration that is full of surprises! This year's program will showcase members of The Jambalaya Horns and feature a number of guest instrumentalists from the New England music scene! Featured Vocalists are Henri Smith of New Orleans\, Sadie Cook\, Scarlett Berge\, and Alessandro Schoc.
X-ALT-DESC;FMTTYPE=text/html:<span style="color:rgb(64\, 64\, 65)\; font-family:open sans\,sans-serif\; font-size:14px">Reserved Seating $30 + $6.95 service fee</span><br />\n<span style="color:rgb(64\, 64\, 65)\; font-family:open sans\,sans-serif\; font-size:14px">GA Standing $15&nbsp\;+ $4.95 service fee</span><br />\n<span style="color:rgb(64\, 64\, 65)\; font-family:open sans\,sans-serif\; font-size:14px">GA Standing w/ Student ID $10 + $4.95 service fee</span><br />\n<span style="color:rgb(64\, 64\, 65)\; font-family:open sans\,sans-serif\; font-size:14px">7:00pm Doors\, 7:30pm Show</span><br />\n<span style="color:rgb(64\, 64\, 65)\; font-family:open sans\,sans-serif\; font-size:14px">ALL AGES (under 18 mus be accompanied by a parent/guardian)</span><br />\n<br />\n<span style="color:rgb(64\, 64\, 65)\; font-family:open sans\,sans-serif\; font-size:14px">Carlos Menezes Jr&rsquo\;s BrassFed Nation is a horn-driven groove machine with a unique sound incorporating the styles and traditions of early Jazz\, New Orleans Funk &amp\; Soul\, Rhythm &amp\; Blues\, Calypso\, and Jamaican Ska!</span><br />\n<br />\n<span style="color:rgb(64\, 64\, 65)\; font-family:open sans\,sans-serif\; font-size:14px">Founded&nbsp\; in 2013\, The BrassFed Nation is dedicated to the advancement of horn-driven music through exposure and outreach in both education and local musical culture! The collective features 3 unique ensembles\; Cape Ann Big Band\, The Jambalaya Horns\, and The 13-Piece DubTone Orchestra - all striving to inspire and connect musicians of all ages through performances\, private studio lessons\, workshops\, and interactive clinics.&nbsp\;</span><br />\n<br />\n<span style="color:rgb(64\, 64\, 65)\; font-family:open sans\,sans-serif\; font-size:14px">ABOUT THIS PERFORMANCE:</span><br />\n<span style="color:rgb(64\, 64\, 65)\; font-family:open sans\,sans-serif\; font-size:14px">Paying homage to the infectious beats and sounds of New Orleans\, the BrassFed Orchestra will cue the &ldquo\;Big Four&#39\;&#39\; and transport audience members to the streets of the Crescent City for a Holiday Celebration that is full of surprises! This year&rsquo\;s program will showcase members of The Jambalaya Horns and feature a number of guest instrumentalists from the New England music scene! Featured Vocalists are Henri Smith of New Orleans\, Sadie Cook\, Scarlett Berge\, and Alessandro Schoc.</span>
LOCATION:The Cut 177 Main St Gloucester\, MA 01930
UID:e.2981.44877
SEQUENCE:3
DTSTAMP:20260422T044552Z
URL:https://business.capeannchamber.com/events/details/brassfed-nation-holiday-bash-44877
END:VEVENT

END:VCALENDAR
