BEGIN:VCALENDAR
VERSION:2.0
PRODID:-//ChamberMaster//Event Calendar 2.0//EN
METHOD:PUBLISH
X-PUBLISHED-TTL:P3D
REFRESH-INTERVAL:P3D
CALSCALE:GREGORIAN
BEGIN:VEVENT
DTSTART:20250418T000000Z
DTEND:20250418T020000Z
X-MICROSOFT-CDO-ALLDAYEVENT:FALSE
SUMMARY:Brad Mehldau
DESCRIPTION:Experience the critically acclaimed artistry of Brad Mehldau\, hailed by The New York Times as "the most influential jazz pianist of the last 20 years." Known for his lyrical and innovative style\, Mehldau's performances are a masterclass in musical ingenuity and emotional depth\, seamlessly blending jazz\, classical and pop influences.
X-ALT-DESC;FMTTYPE=text/html:<p><span style="background-color:rgb(250\, 250\, 250)\; color:rgb(0\, 0\, 0)\; font-family:open sans\,helvetica neue\,helvetica\,arial\,sans-serif\; font-size:18px">Experience the critically acclaimed artistry of Brad Mehldau\, hailed by&nbsp\;</span><em>The New York Times</em><span style="background-color:rgb(250\, 250\, 250)\; color:rgb(0\, 0\, 0)\; font-family:open sans\,helvetica neue\,helvetica\,arial\,sans-serif\; font-size:18px">&nbsp\;as &ldquo\;the most influential jazz pianist of the last 20 years.&rdquo\; Known for his lyrical and innovative style\, Mehldau&rsquo\;s performances are a masterclass in musical ingenuity and emotional depth\, seamlessly blending jazz\, classical and pop influences.</span></p>\n
LOCATION:37 Main St\, Rockport\, MA 01966
UID:e.2981.35184
SEQUENCE:3
DTSTAMP:20260424T140701Z
URL:https://business.capeannchamber.com/events/details/brad-mehldau-35184
END:VEVENT

END:VCALENDAR
