BEGIN:VCALENDAR
VERSION:2.0
PRODID:-//ChamberMaster//Event Calendar 2.0//EN
METHOD:PUBLISH
X-PUBLISHED-TTL:P3D
REFRESH-INTERVAL:P3D
CALSCALE:GREGORIAN
BEGIN:VEVENT
DTSTART:20250807T160000Z
DTEND:20250824T210000Z
X-MICROSOFT-CDO-ALLDAYEVENT:FALSE
SUMMARY:BOUNDLESS: The Art of the Book
DESCRIPTION:Boundless: The Art of the Book\n\nJuly 17   August 24\n\nGallery Hours: Thursday\, 12pm-7pm\; Friday-Sunday\, 12pm-5pm\n\nView the online shop and exhibit HERE\n\nThis dynamic exhibition explores the rich and ever-evolving world of the book as an art form. Featuring artist books\, altered books\, and book illustration\, Boundless showcases imaginative approaches to storytelling\, visual poetry\, personal narratives\, and inventive book structures. Visitors will encounter works that range from the traditional to the avant-garde books that hang\, twist\, stand\, open like advent calendars\, or defy conventional forms altogether.\n\nThe exhibition presents an array of techniques including letterpress\, etching\, monoprint\, painting\, photography\, and mixed media. Through these varied practices\, artists interrogate themes of memory\, imagination\, identity\, and the contemporary moment.\n\nBoundless features contributions from a distinguished group of artists\, including local creatives\, university faculty\, and artists affiliated with book arts communities throughout New England and beyond\, including Boston\, Philadelphia\, New York\, New Hampshire\, and Maine.\n\nExhibiting Artists:\n\nRen Barnes\, Stevens Brosnihan\, Rachel Church\, Pamela Courtleigh\, Haig Demarjian\, Mary Dewey\, Madge Evers\, Lynda Fatalo\, Cristina Hajosy\, Hannah Jacoby-Brooks\, Linda Kauss\, Giles Laroche\, Kelle Louaillier\, Leslie Lyman\, Fred Lynch\, Claire B. Marcus\, Cynthia Marsh\, R. Ellis Orrall\, Sarah Parella\, Rhoda Rosenberg\, Lynne Sausele\, Mary Beth Smith\, Lorna Stevens\, Juni Van Dyke\, Anna Vojtech\, Larry Volk\, Karen Watson\, Antoinette Winters\, Kyung Eun You.
X-ALT-DESC;FMTTYPE=text/html:<p><em><span style="font-size:21px"><strong>Boundless: The Art of the Book</strong></span></em><br />\nJuly 17 &ndash\; August 24<br />\nGallery Hours: Thursday\, 12pm-7pm\; Friday-Sunday\, 12pm-5pm<br />\n<a href="https://www.rnacexhibitions.com/" rel="noopener" style="box-sizing: border-box\; background: 0px 0px\; transition: 0.1s ease-in-out\; color: rgb(39\, 119\, 186)\; text-decoration-line: none\;" target="_blank">View the online shop and exhibit HERE</a></p>\n\n<p>This dynamic exhibition explores the rich and ever-evolving world of the book as an art form. Featuring artist books\, altered books\, and book illustration\,&nbsp\;<em>Boundless</em>&nbsp\;showcases imaginative approaches to storytelling\, visual poetry\, personal narratives\, and inventive book structures. Visitors will encounter works that range from the traditional to the avant-garde&mdash\;books that hang\, twist\, stand\, open like advent calendars\, or defy conventional forms altogether.</p>\n\n<p>The exhibition presents an array of techniques including letterpress\, etching\, monoprint\, painting\, photography\, and mixed media. Through these varied practices\, artists interrogate themes of memory\, imagination\, identity\, and the contemporary moment.</p>\n\n<p><em>Boundless</em>&nbsp\;features contributions from a distinguished group of artists\, including local creatives\, university faculty\, and artists affiliated with book arts communities throughout New England and beyond\, including Boston\, Philadelphia\, New York\, New Hampshire\, and Maine.</p>\n\n<p><strong>Exhibiting Artists:</strong><br />\nRen Barnes\, Stevens Brosnihan\, Rachel Church\, Pamela Courtleigh\, Haig Demarjian\, Mary Dewey\, Madge Evers\, Lynda Fatalo\, Cristina Hajosy\, Hannah Jacoby-Brooks\, Linda Kauss\, Giles Laroche\, Kelle Louaillier\, Leslie Lyman\, Fred Lynch\, Claire B. Marcus\, Cynthia Marsh\, R. Ellis Orrall\, Sarah Parella\, Rhoda Rosenberg\, Lynne Sausele\, Mary Beth Smith\, Lorna Stevens\, Juni Van Dyke\, Anna Vojtech\, Larry Volk\, Karen Watson\, Antoinette Winters\, Kyung Eun You.</p>\n
LOCATION:The Cultural Center at Rocky Neck 6 Wonson Street\, Gloucester
UID:e.2981.41383
SEQUENCE:3
DTSTAMP:20260424T235633Z
URL:https://business.capeannchamber.com/events/details/boundless-the-art-of-the-book-41383
END:VEVENT

END:VCALENDAR
