BEGIN:VCALENDAR
VERSION:2.0
PRODID:-//ChamberMaster//Event Calendar 2.0//EN
METHOD:PUBLISH
X-PUBLISHED-TTL:P3D
REFRESH-INTERVAL:P3D
CALSCALE:GREGORIAN
BEGIN:VEVENT
DTSTART:20140601T190000Z
DTEND:20140601T190000Z
X-MICROSOFT-CDO-ALLDAYEVENT:FALSE
SUMMARY:Boston Children's Chorus
DESCRIPTION:The Boston Children's Chorus unites children ages 7-18 from diverse backgrounds to discover the power of singing and love of music.  The Boston Globe hails the choir as ''angelic and dazzling.''
X-ALT-DESC;FMTTYPE=text/html:\nThe Boston Children's Chorus unites children ages 7-18 from diverse backgrounds to discover the power of singing and love of music.  The Boston Globe hails the choir as ''angelic and dazzling.''\n
LOCATION:Shalin Liu Performance Center\, Rockport\, Ma 01966
UID:e.2981.1228
SEQUENCE:3
DTSTAMP:20260419T174809Z
URL:https://business.capeannchamber.com/events/details/boston-children-s-chorus-06-01-2014-1228
END:VEVENT

END:VCALENDAR
