BEGIN:VCALENDAR
VERSION:2.0
PRODID:-//ChamberMaster//Event Calendar 2.0//EN
METHOD:PUBLISH
X-PUBLISHED-TTL:P3D
REFRESH-INTERVAL:P3D
CALSCALE:GREGORIAN
BEGIN:VEVENT
DTSTART:20250406T190000Z
DTEND:20250406T210000Z
X-MICROSOFT-CDO-ALLDAYEVENT:FALSE
SUMMARY:Boston Children's Chorus
DESCRIPTION:Experience an uplifting and dynamic performance of the Boston Children's Chorus\, where the diverse and talented voices of Boston's youth shine\, captivate and inspire! BCC's vibrant\, jubilant and powerful performances have established them as leading young artists in the city of Boston and beyond.
X-ALT-DESC;FMTTYPE=text/html:<p><span style="background-color:rgb(250\, 250\, 250)\; color:rgb(0\, 0\, 0)\; font-family:open sans\,helvetica neue\,helvetica\,arial\,sans-serif\; font-size:18px">Experience an uplifting and dynamic performance of the Boston Children&rsquo\;s Chorus\, where the diverse and talented voices of Boston&rsquo\;s youth shine\, captivate and inspire! BCC&rsquo\;s vibrant\, jubilant and powerful performances have established them as leading young artists in the city of Boston and beyond.</span></p>\n
LOCATION:37 Main St\, Rockport\, MA 01966
UID:e.2981.35176
SEQUENCE:3
DTSTAMP:20260424T152639Z
URL:https://business.capeannchamber.com/events/details/boston-children-s-chorus-04-06-2025-35176
END:VEVENT

END:VCALENDAR
