BEGIN:VCALENDAR
VERSION:2.0
PRODID:-//ChamberMaster//Event Calendar 2.0//EN
METHOD:PUBLISH
X-PUBLISHED-TTL:P3D
REFRESH-INTERVAL:P3D
CALSCALE:GREGORIAN
BEGIN:VEVENT
DTSTART:20221029T143000Z
DTEND:20221029T160000Z
X-MICROSOFT-CDO-ALLDAYEVENT:FALSE
SUMMARY:Bones of Homes Walking Tour
DESCRIPTION:This walking tour provides participants with an architectural overview of Gloucester building styles from the mid-18th to the mid-20th century. On this tour of the area immediately surrounding the Cape Ann Museum\, participants will learn about architectural elements and styles that arose out of specific socioeconomic and cultural circumstances during this critical 200-year period in the City's development.\n\nCost is $10 CAM members / $20 nonmembers (includes Museum admission). Space is limited\; advance registration required.  Reserve online or call 978-283-0455 x110 or email info@capeannmuseum.org.
X-ALT-DESC;FMTTYPE=text/html:<p>This walking tour provides participants with an architectural overview of Gloucester building styles from the mid-18th to the mid-20th century. On this tour of the area immediately surrounding the Cape Ann Museum\, participants will learn about architectural elements and styles that arose out of specific socioeconomic and cultural circumstances during this critical 200-year period in the City&rsquo\;s development.</p>\n\n<p>Cost is $10 CAM members / $20 nonmembers (includes Museum admission). Space is limited\; advance registration required.&nbsp\;&nbsp\;Reserve online or call 978-283-0455 x110 or email&nbsp\;<a href="mailto:info@capeannmuseum.org" style="box-sizing: border-box\; margin: 0px\; padding: 0px\; border: 0px\; font-weight: bold\; font-style: inherit\; font-family: inherit\; vertical-align: baseline\; background: transparent\; color: rgb(21\, 91\, 128)\; text-decoration-line: none\;">info@capeannmuseum.org</a>.</p>\n
LOCATION:Cape Ann Museum 27 Pleasant St Gloucester\, MA 01930
UID:e.2981.23067
SEQUENCE:3
DTSTAMP:20260424T141007Z
URL:https://business.capeannchamber.com/events/details/bones-of-homes-walking-tour-10-29-2022-23067
END:VEVENT

END:VCALENDAR
