BEGIN:VCALENDAR
VERSION:2.0
PRODID:-//ChamberMaster//Event Calendar 2.0//EN
METHOD:PUBLISH
X-PUBLISHED-TTL:P3D
REFRESH-INTERVAL:P3D
CALSCALE:GREGORIAN
BEGIN:VEVENT
DTSTART:20220306T175500Z
DTEND:20220306T195500Z
X-MICROSOFT-CDO-ALLDAYEVENT:FALSE
SUMMARY:Bolshoi Ballet: Swan Lake at Shalin Liu
DESCRIPTION:Lured to the banks of a mysterious lake by his alter-ego\, the Evil Genius\, Prince Siegfried encounters the most beautiful swan Odette and swears his love to her. At the castle\, prospective brides try to entertain the distracted Prince\, but it is the ravishing swan Odile who threatens the promise Siegfried made to Odette.
X-ALT-DESC;FMTTYPE=text/html:<span style="color:rgb(0\, 0\, 0)\; font-family:docs-calibri\; font-size:15px">Lured to the banks of a mysterious lake by his alter-ego\, the Evil Genius\, Prince Siegfried encounters the most beautiful swan Odette and swears his love to her. At the castle\, prospective brides try to entertain the distracted Prince\, but it is the ravishing swan Odile who threatens the promise Siegfried made to Odette.</span>
LOCATION:Shalin Liu Performance Center 37 Main Street Rockport\, MA 01966
UID:e.2981.21774
SEQUENCE:3
DTSTAMP:20260420T141033Z
URL:https://business.capeannchamber.com/events/details/bolshoi-ballet-swan-lake-at-shalin-liu-21774
END:VEVENT

END:VCALENDAR
