BEGIN:VCALENDAR
VERSION:2.0
PRODID:-//ChamberMaster//Event Calendar 2.0//EN
METHOD:PUBLISH
X-PUBLISHED-TTL:P3D
REFRESH-INTERVAL:P3D
CALSCALE:GREGORIAN
BEGIN:VEVENT
DTSTART:20241207T000000Z
DTEND:20241207T023000Z
X-MICROSOFT-CDO-ALLDAYEVENT:FALSE
SUMMARY:Blood Sweat & Tears with special guest Jim Fielder
DESCRIPTION:The Band's Only New England Appearance in 2024! They will be joined by special guest Jim Fielder\, founding member of BS&T.\n\n\n\nBS&T has never stopped touring. Fans have their favorite musicians who are originals to them and we all agree but it is simply Blood Sweat and Tears at its best.\n\n\n\nBlood Sweat and Tears was born from a selfish notion that we could combine the sophistication and musical skill level of jazz music with the energy and universal appeal of rock vocal music. Instead of incessant whiny guitar interludes\, we would have improvised\, spontaneous jazz solos. Horn arrangements were not an afterthought\, they were fully integrated into the songs themselves\, some written by band members and others that would come from many different resources. These are the ideas that formulated the concept of BS&T.  \n\n\n\nThe most commercially successful version of the band was in fact\, our second line-up. That set the course of seeking out the most talented musicians and having a revolving door for stars to join us while in between their tours. And it worked! No bored players here.
X-ALT-DESC;FMTTYPE=text/html:The Band&#39\;s Only New England Appearance in 2024! They will be joined by special guest Jim Fielder\, founding member of BS&amp\;T.<br />\n<br />\nBS&amp\;T has never stopped touring. Fans have their favorite musicians who are originals to them and we all agree but it is simply Blood Sweat and Tears at its best.<br />\n<br />\nBlood Sweat and Tears was born from a selfish notion that we could combine the sophistication and musical skill level of jazz music with the energy and universal appeal of rock vocal music. Instead of incessant whiny guitar interludes\, we would have improvised\, spontaneous jazz solos. Horn arrangements were not an afterthought\, they were fully integrated into the songs themselves\, some written by band members and others that would come from many different resources. These are the ideas that formulated the concept of BS&amp\;T.&nbsp\;&nbsp\;<br />\n<br />\nThe most commercially successful version of the band was in fact\, our second line-up. That set the course of seeking out the most talented musicians and having a revolving door for stars to join us while in between their tours. And it worked! No bored players here.
LOCATION:The Cabot 286 Cabot Street Beverly\, MA 01915
UID:e.2981.34179
SEQUENCE:3
DTSTAMP:20260424T152815Z
URL:https://business.capeannchamber.com/events/details/blood-sweat-tears-with-special-guest-jim-fielder-34179
END:VEVENT

END:VCALENDAR
