BEGIN:VCALENDAR
VERSION:2.0
PRODID:-//ChamberMaster//Event Calendar 2.0//EN
METHOD:PUBLISH
X-PUBLISHED-TTL:P3D
REFRESH-INTERVAL:P3D
CALSCALE:GREGORIAN
BEGIN:VEVENT
DTSTART:20250809T220000Z
DTEND:20250810T020000Z
X-MICROSOFT-CDO-ALLDAYEVENT:FALSE
SUMMARY:Block Party #2 2025
DESCRIPTION:Main Street\, Downtown Gloucester comes alive when the Street is closed off and we have live music\, street performers\, non-profits\, food vendors and more\n\n\nMany of our shops and businesses on Main Street will be open for business and will welcome partygoers. Other Gloucester businesses and non-profits will be represented on the Street as well.  We can promise a night full of Live music\, great food\, and fun activities with lots of local flavor! \n\n\n\nLIST OF PARTICIPANTS\n\n	\n		\n			NON-PROFITS\n\n			1623 Studios\n\n			Action Inc.\n\n			Adam Needs Beads\n\n			Calvary Chapel Baptist Church\n\n			Cape Ann Museum\n\n			Cape Ann Pride Coalition\n\n			Cape Ann Symphony\n\n			Cape Ann Vernal Pond Team\n\n			Committee to Elect\n\n			Jeff Worthley for Mayor\n\n			Committee to Elect\n\n			Paul Lundberg for Mayor\n\n			Committee to Re-Elect\n\n			Mayor Greg Verga\n\n			Committee to Re-Elect Tony Gross\n\n			for City Councilor at Large\n\n			CORE Peer Recovery &\n\n			Resource Center\n\n			Gloucester Center for the Arts\n\n			Gloucester Marine Genomics Institute\n\n			Gloucester Stage Company\n\n			Heart Sounds\n\n			Little Dresses for Africa\n\n			Lupis Foundation of America\n\n			NAMI Cape Ann\n\n			North Shore Bible Church\n\n			North Shore Health Project\n\n			Pathways for Children\n\n			Rescue Gloucester Wildlife\n\n			Schooner Adventure\n\n			St John's Episcopal Church\n\n			The Cabot\n\n			TownGreen\, Inc\n\n			 \n\n			FOOD VENDORS\n\n			Crepe du Jour\n\n			Lobster Roller\n\n			Meat & Sweet\n\n			Three Gingers Jerky\n\n			Whoopie Wagon\n\n			 \n			BUSINESSES\n\n			4GBS Coaching\n\n			80 Main Antiques & Ephemera\n\n			A & A Services\n\n			Angela's Creative Nook\n\n			Antrella's Attractions\n\n			Bergeron Pottery\n\n			Blue River Diamonds\n\n			Cape Ann Olive Oil\n\n			Dave Pleuler Art\n\n			Design of Mine\n\n			Ebenezer Tax & Services\n\n			Edward Beattie Auctioneers\n\n			Engel & Volkers by the Sea\n\n			Face Painting by Miss Wendy\n\n			Fireflies Boutique\n\n			Five Mark Realty Group\n\n			Floating Lotus - Gloucester\n\n			Happy Tails Shoppe\n\n			Gloucester Apparel\n\n			Local Colors Artists' Cooperative\n\n			Manchester Athletic Club\n\n			Mark Adrian Shoes\n\n			Operation Bounce\n\n			Pat D's Photos\n\n			Poetic Elegance Events\n\n			Pop Gallery\n\n			Psychic by the Sea\n\n			Revive Wellness\n\n			Sample This\n\n			Sea Coastal Arts\n\n			Sweats of New England\n\n			The Bookstore of Gloucester\n\n			The Cut\n\n			The Dress Code\n\n			The Willow Witch\n\n			WORKS by JD\n\n			 \n\n			RESTAURANTS\n\n			Bravo Pizza\n\n			Castaways Vintage Caf \n\n			Machaca Taco & Tequila Bar
X-ALT-DESC;FMTTYPE=text/html:<a href="https://chambermaster.blob.core.windows.net/userfiles/UserFiles/chambers/2981/File/2024BlockPartyBusinessApplication-Fillable.pdf"><span style="color: rgb(51\, 51\, 51)\;">Main Street\, Downtown Gloucester comes alive when the&nbsp\;Street is closed off and we have live music\, street performers\, non-profits\, food vendors and more</span></a>\n<div style="font-style: normal\; font-weight: normal\;"><br />\n<span style="font-family: arial\; font-size: 14px\;">Many of our shops and businesses on Main Street will be open for business and will welcome partygoers. Other Gloucester businesses and non-profits will be represented on the Street as well.&nbsp\;&nbsp\;We can promise a night full of Live music\, great food\, and fun activities with lots of local flavor!&nbsp\;<br />\n<br />\n<strong>LIST OF PARTICIPANTS</strong></span>\n<table border="1" cellpadding="0" cellspacing="0" style="border-collapse:collapse\;border:none\;">\n	<tbody>\n		<tr>\n			<td style="width:312px\;border:solid windowtext 1.0pt\;padding:0in 5.4pt 0in 5.4pt\;vertical-align:top\;"><strong><u>NON-PROFITS</u></strong><br />\n			1623 Studios<br />\n			Action Inc.<br />\n			Adam Needs Beads<br />\n			Calvary Chapel Baptist Church<br />\n			Cape Ann Museum<br />\n			Cape Ann Pride Coalition<br />\n			Cape Ann Symphony<br />\n			Cape Ann Vernal Pond Team<br />\n			Committee to Elect<br />\n			Jeff Worthley for Mayor<br />\n			Committee to Elect<br />\n			Paul Lundberg for Mayor<br />\n			Committee to Re-Elect<br />\n			Mayor Greg Verga<br />\n			Committee to Re-Elect Tony Gross<br />\n			for City Councilor at Large<br />\n			CORE Peer Recovery &amp\;<br />\n			Resource Center<br />\n			Gloucester Center for the Arts<br />\n			Gloucester Marine Genomics Institute<br />\n			Gloucester Stage Company<br />\n			Heart Sounds<br />\n			Little Dresses for Africa<br />\n			Lupis Foundation of America<br />\n			NAMI Cape Ann<br />\n			North Shore Bible Church<br />\n			North Shore Health Project<br />\n			Pathways for Children<br />\n			Rescue Gloucester Wildlife<br />\n			Schooner Adventure<br />\n			St John&#39\;s Episcopal Church<br />\n			The Cabot<br />\n			TownGreen\, Inc<br />\n			&nbsp\;<br />\n			<strong><u>FOOD VENDORS</u></strong><br />\n			Crepe du Jour<br />\n			Lobster Roller<br />\n			Meat &amp\; Sweet<br />\n			Three Gingers Jerky<br />\n			Whoopie Wagon<br />\n			&nbsp\;</td>\n			<td style="width:312px\;border:solid windowtext 1.0pt\;border-left:none\;padding:0in 5.4pt 0in 5.4pt\;vertical-align:top\;"><strong><u>BUSINESSES</u></strong><br />\n			4GBS Coaching<br />\n			80 Main Antiques &amp\; Ephemera<br />\n			A &amp\; A Services<br />\n			Angela&rsquo\;s Creative Nook<br />\n			Antrella&#39\;s Attractions<br />\n			Bergeron Pottery<br />\n			Blue River Diamonds<br />\n			Cape Ann Olive Oil<br />\n			Dave Pleuler Art<br />\n			Design of Mine<br />\n			Ebenezer Tax &amp\; Services<br />\n			Edward Beattie Auctioneers<br />\n			Engel &amp\; Volkers by the Sea<br />\n			Face Painting by Miss Wendy<br />\n			Fireflies Boutique<br />\n			Five Mark Realty Group<br />\n			Floating Lotus - Gloucester<br />\n			Happy Tails Shoppe<br />\n			Gloucester Apparel<br />\n			Local Colors Artists&#39\; Cooperative<br />\n			Manchester Athletic Club<br />\n			Mark Adrian Shoes<br />\n			Operation Bounce<br />\n			Pat D&#39\;s Photos<br />\n			Poetic Elegance Events<br />\n			Pop Gallery<br />\n			Psychic by the Sea<br />\n			Revive Wellness<br />\n			Sample This<br />\n			Sea Coastal Arts<br />\n			Sweats of New England<br />\n			The Bookstore of Gloucester<br />\n			The Cut<br />\n			The Dress Code<br />\n			The Willow Witch<br />\n			WORKS by JD<br />\n			&nbsp\;<br />\n			<strong><u>RESTAURANTS</u></strong><br />\n			Bravo Pizza<br />\n			Castaways Vintage Caf&eacute\;<br />\n			Machaca Taco &amp\; Tequila Bar</td>\n		</tr>\n	</tbody>\n</table>\n</div>\n
LOCATION:Main Street (Closed from Pleasant St to Short St) Gloucester\, MA
UID:e.2981.36631
SEQUENCE:3
DTSTAMP:20260424T235103Z
URL:https://business.capeannchamber.com/events/details/block-party-2-2025-36631
END:VEVENT

END:VCALENDAR
