BEGIN:VCALENDAR
VERSION:2.0
PRODID:-//ChamberMaster//Event Calendar 2.0//EN
METHOD:PUBLISH
X-PUBLISHED-TTL:P3D
REFRESH-INTERVAL:P3D
CALSCALE:GREGORIAN
BEGIN:VEVENT
DTSTART;VALUE=DATE:20210807
DTEND;VALUE=DATE:20210808
TRANSP:TRANSPARENT
X-MICROSOFT-CDO-ALLDAYEVENT:TRUE
SUMMARY:Blackburn Challenge
DESCRIPTION:A 20+ mile open water circumnavigation of Cape Ann\, open to all seaworthy oar or paddle-powered craft. There is no rain date. Alternative courses will be in place for rough weather conditions or dense fog. Row it/paddle it if you can\, then join the party afterwards. Sponsored by the Cape Ann Rowing Club.
X-ALT-DESC;FMTTYPE=text/html:<span style="font-family:arial\,sans-serif\;"><span style="font-size:10.0pt\;">A 20+ mile open water circumnavigation of Cape Ann\, open to all seaworthy oar or paddle-powered craft. There is no rain date. Alternative courses will be in place for rough weather conditions or dense fog. Row it/paddle it if you can\, then join the party afterwards.&nbsp\;Sponsored by the Cape Ann Rowing Club.</span></span>
LOCATION:
UID:e.2981.21031
SEQUENCE:3
DTSTAMP:20260424T201306Z
URL:https://business.capeannchamber.com/events/details/blackburn-challenge-21031
END:VEVENT

END:VCALENDAR
