BEGIN:VCALENDAR
VERSION:2.0
PRODID:-//ChamberMaster//Event Calendar 2.0//EN
METHOD:PUBLISH
X-PUBLISHED-TTL:P3D
REFRESH-INTERVAL:P3D
CALSCALE:GREGORIAN
BEGIN:VEVENT
DTSTART:20250913T170000Z
DTEND:20250913T210000Z
X-MICROSOFT-CDO-ALLDAYEVENT:FALSE
SUMMARY:Blackburn Brew Fest 2025
DESCRIPTION:SPONSORSHIP INFORMATION\n\n\n\nThe Chamber's Next Gen Young Professionals committee is pleased to announce the return of the Blackburn Brew Festival on Saturday\, September 13th (RAIN or SHINE) at Stage Fort Park! Over 20 breweries will be convening from Cape Ann\, the North Shore\, and across New England to showcase their best brews to 2\,000 attendees from far and wide. The event will also offer live music\, regional food trucks and lawn games all while located at Gloucester's historic waterfront park.\n\n \n\nThe event will also be supporting a good cause as a portion of the proceeds will support local non-profits through the Cape Ann Community Foundation\, an organization established by the Chamber to award grants for projects supporting educational\, social service\, recreational and economic initiatives throughout the Cape Ann Community.\n\n\n\nPLEASE NOTE: This event is 21+\n\n\n\nFor breweries interested in participating\, please contact Sam Bevins at sam@capeannchamber.com.
X-ALT-DESC;FMTTYPE=text/html:<span style="font-size:14px\;"><span style="font-family:arial\;"><span style="color:#000000\;"><a href="https://chambermaster.blob.core.windows.net/userfiles/UserFiles/chambers/2981/File/Brewfest_Sponsor2025.pdf">SPONSORSHIP INFORMATION</a><br />\n<br />\nThe Chamber&#39\;s Next Gen Young Professionals committee is pleased to announce the return of the Blackburn Brew Festival on Saturday\, September 13th (RAIN or SHINE) at Stage Fort Park! Over 20 breweries will be convening from Cape Ann\, the North Shore\, and across New England to showcase their best brews to 2\,000 attendees from far and wide. The event will also offer live music\, regional food trucks and lawn games all while located at Gloucester&#39\;s historic waterfront park.<br />\n&nbsp\;<br />\nThe event will also be supporting a good cause as a portion of the proceeds will support local non-profits through the Cape Ann Community Foundation\, an organization established by the Chamber to award grants for projects supporting educational\, social service\, recreational and economic initiatives throughout the Cape Ann Community.</span><br />\n<br />\n<span style="color:#B22222\;"><strong>PLEASE NOTE: This event is 21+</strong></span></span></span><br />\n<br />\nFor breweries interested in participating\, please contact Sam Bevins at <a href="mailto:sam@capeannchamber.com">sam@capeannchamber.com</a>.<br />\n&nbsp\;
LOCATION:Stage Fort Park 24 Hough Avenue Gloucester\, MA 01930
UID:e.2981.35905
SEQUENCE:3
DTSTAMP:20260425T011136Z
URL:https://business.capeannchamber.com/events/details/blackburn-brew-fest-2025-35905
END:VEVENT

END:VCALENDAR
