BEGIN:VCALENDAR
VERSION:2.0
PRODID:-//ChamberMaster//Event Calendar 2.0//EN
METHOD:PUBLISH
X-PUBLISHED-TTL:P3D
REFRESH-INTERVAL:P3D
CALSCALE:GREGORIAN
BEGIN:VEVENT
DTSTART:20250816T233000Z
DTEND:20250817T013000Z
X-MICROSOFT-CDO-ALLDAYEVENT:FALSE
SUMMARY:Big Richard
DESCRIPTION:Big Richard brings their electrifying harmonies\, fiery virtuosity and bold bluegrass energy to Rockport! Fresh off the release of their acclaimed debut album Girl Dinner\, this all-female supergroup delivers a must-see night of high-energy musicianship and irreverent charm.
X-ALT-DESC;FMTTYPE=text/html:<p><span style="color:rgb(0\, 0\, 0)\; font-family:open sans\,arial\,helvetica\,sans-serif\; font-size:16px">Big Richard brings their electrifying harmonies\, fiery virtuosity and bold bluegrass energy to Rockport! Fresh off the release of their acclaimed debut album&nbsp\;</span><em>Girl Dinner</em><span style="color:rgb(0\, 0\, 0)\; font-family:open sans\,arial\,helvetica\,sans-serif\; font-size:16px">\, this all-female supergroup delivers a must-see night of high-energy musicianship and irreverent charm.</span></p>\n
LOCATION:37 Main St\, Rockport\, MA 01966
UID:e.2981.36773
SEQUENCE:3
DTSTAMP:20260424T235050Z
URL:https://business.capeannchamber.com/events/details/big-richard-36773
END:VEVENT

END:VCALENDAR
