BEGIN:VCALENDAR
VERSION:2.0
PRODID:-//ChamberMaster//Event Calendar 2.0//EN
METHOD:PUBLISH
X-PUBLISHED-TTL:P3D
REFRESH-INTERVAL:P3D
CALSCALE:GREGORIAN
BEGIN:VEVENT
DTSTART:20250920T140000Z
DTEND:20251102T220000Z
X-MICROSOFT-CDO-ALLDAYEVENT:FALSE
SUMMARY:Between The Tides: Art From Thacher & Straitsmouth Island - Juried Artist Members\, Rockport Art Association & Museum
DESCRIPTION:A collaboration between Rockport Art Association & Museum and Thacher & Straitsmouth Island Association\n\n\n\nThis summer\, Thacher & Straitsmouth Islands Association is pleased to offer Juried Artist Members of the RAA&M opportunities to create art on Thacher Island. In celebration of Cape Ann's magnificent natural beauty and abundant artistic talent\, an exhibition of the ensuing art will follow at the RAA&M
X-ALT-DESC;FMTTYPE=text/html:A collaboration between Rockport Art Association &amp\; Museum and Thacher &amp\; Straitsmouth Island Association<br />\n<br />\nThis summer\, Thacher &amp\; Straitsmouth Islands Association is pleased to offer Juried Artist Members of the RAA&amp\;M opportunities to create art on Thacher Island. In celebration of Cape Ann&#39\;s magnificent natural beauty and abundant artistic talent\, an exhibition of the ensuing art will follow at the RAA&amp\;M
LOCATION:Rockport Art Association & Museum 12 Main Street Rockport\, MA 01966
UID:e.2981.43132
SEQUENCE:3
DTSTAMP:20260425T011719Z
URL:https://business.capeannchamber.com/events/details/between-the-tides-art-from-thacher-straitsmouth-island-juried-artist-members-rockport-art-association-museum-43132
END:VEVENT

END:VCALENDAR
