BEGIN:VCALENDAR
VERSION:2.0
PRODID:-//ChamberMaster//Event Calendar 2.0//EN
METHOD:PUBLISH
X-PUBLISHED-TTL:P3D
REFRESH-INTERVAL:P3D
CALSCALE:GREGORIAN
BEGIN:VEVENT
DTSTART:20250711T140000Z
DTEND:20250803T210000Z
X-MICROSOFT-CDO-ALLDAYEVENT:FALSE
SUMMARY:Belleroche & the John Singer Sargent Connection - North Shore Arts Association
DESCRIPTION:Belleroche & the John Singer Sargent Connection explores the collaboration between two legendary artists\, Albert de Belleroche and John Singer Sargent\, and the portraiture for which they became renowned. On display from July 11   August 3\, this exhibition is dedicated to sharing a private collection of a North Shore family alongside selected works from the Sargent House Museum's Permanent Collection.\n\nOPENING GALA: JULY 11   5PM   8PM   *This reception is a ticketed event.*
X-ALT-DESC;FMTTYPE=text/html:<p>Belleroche &amp\; the John Singer Sargent Connection explores the collaboration between two legendary artists\, Albert de Belleroche and John Singer Sargent\, and the portraiture for which they became renowned. On display from July 11 &ndash\; August 3\, this exhibition is dedicated to sharing a private collection of a North Shore family alongside selected works from the&nbsp\;<a href="https://www.sargenthouse.org/" rel="noopener" style="box-sizing: border-box\; margin: 0px\; padding: 0px\; border-width: 0px 0px 0.666667px\; border-top-style: initial\; border-right-style: initial\; border-bottom-style: solid\; border-left-style: initial\; border-color: rgb(204\, 204\, 204)\; border-image: initial\; font-variant: inherit\; font-weight: 600\; font-stretch: inherit\; font-size: inherit\; line-height: inherit\; font-family: inherit\; font-optical-sizing: inherit\; font-size-adjust: inherit\; font-kerning: inherit\; font-feature-settings: inherit\; font-variation-settings: inherit\; vertical-align: baseline\; text-decoration-line: none\; outline: 0px\; max-width: 100%\; color: rgb(183\, 13\, 13)\; transition: color 0.2s\;" target="_blank">Sargent House Museum</a>&lsquo\;s Permanent Collection.</p>\n\n<p><strong>OPENING GALA:</strong>&nbsp\;JULY 11 &bull\; 5PM &ndash\; 8PM &ndash\;&nbsp\;<em>*This reception is a ticketed event.*</em></p>\n
LOCATION:North Shore Arts Association: 11 Pirates Lane\, Gloucester Massachusetts\, 01930
UID:e.2981.37303
SEQUENCE:3
DTSTAMP:20260424T223433Z
URL:https://business.capeannchamber.com/events/details/belleroche-the-john-singer-sargent-connection-north-shore-arts-association-37303
END:VEVENT

END:VCALENDAR
