BEGIN:VCALENDAR
VERSION:2.0
PRODID:-//ChamberMaster//Event Calendar 2.0//EN
METHOD:PUBLISH
X-PUBLISHED-TTL:P3D
REFRESH-INTERVAL:P3D
CALSCALE:GREGORIAN
BEGIN:VEVENT
DTSTART:20240915T130000Z
DTEND:20240915T160000Z
X-MICROSOFT-CDO-ALLDAYEVENT:FALSE
SUMMARY:Beginner Yoga Basics Workshop
DESCRIPTION:Curious about yoga? Wanting to join a class but feel intimidated? Coming back to your mat and would like a refresher? This workshop is for you!\n\n\n\nJoin Sharon Esker to learn the foundations of a yoga practice. You can expect to learn the names and shapes of basic postures\, how to use props\, breathing techniques\, and the format of a vinyasa yoga class so you can feel comfortable on your mat and in the studio. Sharon teaches with great compassion and a sense of humor\, balancing joy with deep knowledge of movement\, breath\, and philosophy rooted this ancient practice.\n\n\n\nA yoga practice can provide an opportunity to feel grounded\, to cultivate a sense of creativity\, and to remind ourselves that we have the power to respond to what is happening in our lives - all vital qualities that we need to navigate our paths in our communities and in the world.\n\n\n\nTreetop Yoga is an inclusive community where all are welcome. We'd love to welcome you to our studio soon. Please reach out if you have any questions.\n\n\n\nSpecial monthly unlimited yoga for workshop attendees:\n\nNew to Treetop? You can add a month of unlimited yoga September 15-October 15 for $49. Returning to Treetop? Add on an unlimited month of yoga September 15-October 15 for $99.\n\n\n\n\n\nTestimonials About Treetop Yoga Studio and Instructor Sharon Esker: \n\n\n\n"Amazing community of yogis\, excellent teachers\, good variety of classes. Very welcoming for all ages and abilities!" - Kati C.\n\n\n\n"Sharon is a fantastic instructor. Treetop is a very healing and inviting space." - Jennifer C.\n\n\n\n"The intro to yoga class with Sharon was fun and accessible. She's a great teacher for leading students through their new yoga practice." - Johnna H.
X-ALT-DESC;FMTTYPE=text/html:<span style="color:rgb(47\, 51\, 52)\; font-family:tt norms pro\,-apple-system\,blinkmacsystemfont\,segoe ui\,helvetica neue\,arial\,sans-serif\,apple color emoji\,segoe ui emoji\,segoe ui symbol\; font-size:16px">Curious about yoga? Wanting to join a class but feel intimidated? Coming back to your mat and would like a refresher? This workshop is for you!<br />\n<br />\nJoin Sharon Esker to learn the foundations of a yoga practice. You can expect to learn the names and shapes of basic postures\, how to use props\, breathing techniques\, and the format of a vinyasa yoga class so you can feel comfortable on your mat and in the studio. Sharon teaches with great compassion and a sense of humor\, balancing joy with deep knowledge of movement\, breath\, and philosophy rooted this ancient practice.<br />\n<br />\nA yoga practice can provide an opportunity to feel grounded\, to cultivate a sense of creativity\, and to remind ourselves that we have the power to respond to what is happening in our lives - all vital qualities that we need to navigate our paths in our communities and in the world.<br />\n<br />\nTreetop Yoga is an inclusive community where all are welcome. We&rsquo\;d love to welcome you to our studio soon. Please reach out if you have any questions.<br />\n<br />\nSpecial monthly unlimited yoga for workshop attendees:<br />\nNew to Treetop? You can add a month of unlimited yoga September 15-October 15 for $49. Returning to Treetop? Add on an unlimited month of yoga September 15-October 15 for $99.<br />\n<br />\n<br />\nTestimonials About Treetop Yoga Studio and Instructor Sharon Esker:&nbsp\;<br />\n<br />\n&quot\;</span><em><span style="font-size:16px"><span style="color:rgb(60\, 64\, 67)\; font-family:roboto\,arial\,sans-serif">Amazing community of yogis\, excellent teachers\, good variety of classes. Very welcoming for all ages and abilities!&quot\; - Kati C.</span></span></em><br />\n<br />\n<em><span style="font-size:16px"><span style="color:rgb(60\, 64\, 67)\; font-family:roboto\,arial\,sans-serif">&quot\;Sharon is a fantastic instructor. Treetop is a very healing and inviting space.&quot\; - Jennifer C.<br />\n<br />\n&quot\;The intro to yoga class with Sharon was fun and accessible. She&rsquo\;s a great teacher for leading students through their new yoga practice.&quot\; - Johnna H.</span></span></em><br />\n<br />\n&nbsp\;
LOCATION:Treetop Yoga Studio 3A Pond Road Gloucester\, MA 01930
UID:e.2981.32781
SEQUENCE:3
DTSTAMP:20260420T211952Z
URL:https://business.capeannchamber.com/events/details/beginner-yoga-basics-workshop-32781
END:VEVENT

END:VCALENDAR
