BEGIN:VCALENDAR
VERSION:2.0
PRODID:-//ChamberMaster//Event Calendar 2.0//EN
METHOD:PUBLISH
X-PUBLISHED-TTL:P3D
REFRESH-INTERVAL:P3D
CALSCALE:GREGORIAN
BEGIN:VEVENT
DTSTART:20250404T000000Z
DTEND:20250404T020000Z
X-MICROSOFT-CDO-ALLDAYEVENT:FALSE
SUMMARY:BeauSoleil 50th Anniversary Celebration with special guest Richard Thompson
DESCRIPTION:For 50 years\, Two-time Grammy winner BeauSoleil avec Michael Doucet have been hailed as "the best Cajun band in the world."\n\n\nFor the past 50 years\, BeauSoleil avec Michael Doucet has been making some of the most potent and popular Cajun music on the planet. Born out of the rich Acadian ancestry of its members\, and created and driven by bandleader Michael Doucet's spellbinding fiddle playing and soulful vocals\, BeauSoleil is notorious for bringing even the most staid audience to its feet. BeauSoleil's distinctive sound derives from the distilled spirits of New Orleans jazz\, blues rock\, folk\, swamp pop\, Zydeco\, country and bluegrass\, captivating listeners from the Jazz and Heritage Festival in New Orleans\, to Carnegie Hall\, then all the way across the pond to Richard Thompson's Meltdown Festival in England.\n\nThey are joined for this special weekend celebration by their good friend Richard Thompson.
X-ALT-DESC;FMTTYPE=text/html:<p>For 50 years\, Two-time Grammy winner BeauSoleil avec Michael Doucet have been hailed as &ldquo\;the best Cajun band in the world.&rdquo\;</p>\n\n<div>\n<p>For the past 50 years\, BeauSoleil avec Michael Doucet has been making some of the most potent and popular Cajun music on the planet. Born out of the rich Acadian ancestry of its members\, and created and driven by bandleader Michael Doucet&rsquo\;s spellbinding fiddle playing and soulful vocals\, BeauSoleil is notorious for bringing even the most staid audience to its feet. BeauSoleil&rsquo\;s distinctive sound derives from the distilled spirits of New Orleans jazz\, blues rock\, folk\, swamp pop\, Zydeco\, country and bluegrass\, captivating listeners from the Jazz and Heritage Festival in New Orleans\, to Carnegie Hall\, then all the way across the pond to Richard Thompson&rsquo\;s Meltdown Festival in England.</p>\n\n<p>They are joined for this special weekend celebration&nbsp\;by their good friend Richard Thompson.</p>\n</div>\n
LOCATION:The Cabot 286 Cabot St Beverly\, MA 01915
UID:e.2981.35157
SEQUENCE:3
DTSTAMP:20260424T152717Z
URL:https://business.capeannchamber.com/events/details/beausoleil-50th-anniversary-celebration-with-special-guest-richard-thompson-35157
END:VEVENT

END:VCALENDAR
