BEGIN:VCALENDAR
VERSION:2.0
PRODID:-//ChamberMaster//Event Calendar 2.0//EN
METHOD:PUBLISH
X-PUBLISHED-TTL:P3D
REFRESH-INTERVAL:P3D
CALSCALE:GREGORIAN
BEGIN:VEVENT
DTSTART:20241207T000000Z
DTEND:20241207T020000Z
X-MICROSOFT-CDO-ALLDAYEVENT:FALSE
SUMMARY:Beauport Hotel Wreath Making Class
DESCRIPTION:Join Meredith McCarthy for a serene\, seaside experience as you craft your own luxurious holiday wreath. Surrounded by stunning ocean views\, you'll work with winter greenery\, seasonal berries\, and a custom bow to match your unique style. Learn More & Book Now.
X-ALT-DESC;FMTTYPE=text/html:Join&nbsp\;<span style="color:#212121">Meredith McCarthy for&nbsp\;</span>a serene\, seaside experience as you craft your own luxurious holiday wreath. Surrounded by stunning ocean views\, you&rsquo\;ll work with winter greenery\, seasonal berries\, and a custom bow to match your unique style.&nbsp\;<strong><a href="https://bit.ly/3NJjSpt" style="color:rgb(150\, 96\, 125)\;" title="https://bit.ly/3NJjSpt"><span style="color:#0078d7">Learn More &amp\; Book Now</span></a>.</strong>&nbsp\;
LOCATION:Beauport Hotel 55 Commercial St. Gloucester\, MA 01930
UID:e.2981.34151
SEQUENCE:3
DTSTAMP:20260424T123504Z
URL:https://business.capeannchamber.com/events/details/beauport-hotel-wreath-making-class-34151
END:VEVENT

END:VCALENDAR
