BEGIN:VCALENDAR
VERSION:2.0
PRODID:-//ChamberMaster//Event Calendar 2.0//EN
METHOD:PUBLISH
X-PUBLISHED-TTL:P3D
REFRESH-INTERVAL:P3D
CALSCALE:GREGORIAN
BEGIN:VEVENT
DTSTART:20231213T230000Z
DTEND:20231214T020000Z
X-MICROSOFT-CDO-ALLDAYEVENT:FALSE
SUMMARY:Beauport Hotel Jingle Bar!
DESCRIPTION:Our Holiday Pop-Up Bar is coming back! Join us from 6:00-9:00 PM every Wednesday this holiday season beginning November 29th for our Jingle Bar. Sip on champagne and holiday seasonal cocktails\, relax by the fireplaces\, savor light bites\, and enjoy our festive trees and d cor to the sounds of live musical entertainment.
X-ALT-DESC;FMTTYPE=text/html:<span style="color:#050505">Our Holiday Pop-Up Bar is coming back! Join us from 6:00-9:00 PM every Wednesday this holiday season beginning November 29<sup>th</sup> for our Jingle Bar. Sip on champagne and holiday seasonal cocktails\, relax by the fireplaces\, savor light bites\, and enjoy our festive trees and d&eacute\;cor to the sounds of live musical entertainment. </span><br />\n&nbsp\;
LOCATION:Beauport Hotel 55 Commercial St. Gloucester\, MA
UID:e.2981.26633
SEQUENCE:3
DTSTAMP:20260421T215111Z
URL:https://business.capeannchamber.com/events/details/beauport-hotel-jingle-bar-12-13-2023-26633
END:VEVENT

END:VCALENDAR
