BEGIN:VCALENDAR
VERSION:2.0
PRODID:-//ChamberMaster//Event Calendar 2.0//EN
METHOD:PUBLISH
X-PUBLISHED-TTL:P3D
REFRESH-INTERVAL:P3D
CALSCALE:GREGORIAN
BEGIN:VEVENT
DTSTART;VALUE=DATE:20250420
DTEND;VALUE=DATE:20250421
TRANSP:TRANSPARENT
X-MICROSOFT-CDO-ALLDAYEVENT:TRUE
SUMMARY:Beauport Hotel Easter by the Sea
DESCRIPTION:A coastal Easter\, wrapped in luxury.\n\n\n\nJoin us at Beauport Hotel for Easter by the Sea! \n\n\n\nIndulge in our Easter at Sea Prix Fixe in the 1606 Restaurant & Oyster Bar Main Dining Room! This Three-Course Prix Fixe Menu will feature your Easter favorites\, such as Za'atar Rack of Lamb\, Chicken Galantine\, and Prosciutto Wrapped Halibut. \n\n\n\nLooking for endless brunch options? Join us for our Easter by the Sea Buffet in the Beauport Hotel Grand Ballroom! Featuring a Chef's Station with our Hand-Carved Greek Marinated Leg of Lamb and Honey Baked Ham\, a Waffle Bar\, and a Make-Your-Own Omelet Station\, you won't want to miss out on this spectacular buffet!  \n\n\n\nOur Prix Fixe and Buffet Dining Experiences offer the best Easter cuisine in Gloucester\, with sweeping ocean views and top-notch service.\n\n\n\nCheck the links below both booking options and make your reservations today!\n\n\n\nLearn More & Book Now: Prix Fixe - https://bit.ly/4iz6stS\n\nLearn More & Book Now: Buffet - https://bit.ly/3DLGlAV
X-ALT-DESC;FMTTYPE=text/html:A coastal Easter\, wrapped in luxury.<br />\n<br />\nJoin us at Beauport Hotel for Easter by the Sea!&nbsp\;<br />\n<br />\nIndulge in our Easter at Sea Prix Fixe in the 1606 Restaurant &amp\; Oyster Bar Main Dining Room! This Three-Course Prix Fixe Menu will feature your Easter favorites\, such as Za&rsquo\;atar Rack of Lamb\, Chicken Galantine\, and Prosciutto Wrapped Halibut.&nbsp\;<br />\n<br />\nLooking for endless brunch options? Join us for our Easter by the Sea Buffet in the Beauport Hotel Grand Ballroom! Featuring a Chef&rsquo\;s Station with our Hand-Carved Greek Marinated Leg of Lamb and Honey Baked Ham\, a Waffle Bar\, and a Make-Your-Own Omelet Station\, you won&rsquo\;t want to miss out on this spectacular buffet!&nbsp\;&nbsp\;<br />\n<br />\nOur Prix Fixe and Buffet Dining Experiences offer the best Easter cuisine in Gloucester\, with sweeping ocean views and top-notch service.<br />\n<br />\nCheck the links below both booking options and make your reservations today!<br />\n<br />\nLearn More &amp\; Book Now: Prix Fixe - <a class="fui-Link ___1q1shib f2hkw1w f3rmtva f1ewtqcl fyind8e f1k6fduh f1w7gpdv fk6fouc fjoy568 figsok6 f1s184ao f1mk8lai fnbmjn9 f1o700av f13mvf36 f1cmlufx f9n3di6 f1ids18y f1tx3yz7 f1deo86v f1eh06m1 f1iescvh fhgqx19 f1olyrje f1p93eir f1nev41a f1h8hb77 f1lqvz6u f10aw75t fsle3fq f17ae5zn" href="https://bit.ly/4iz6stS" id="menur1gt6" rel="noreferrer noopener" target="_blank" title="https://bit.ly/4iz6sts">https://bit.ly/4iz6stS</a><br />\nLearn More &amp\; Book Now: Buffet - <a class="fui-Link ___1q1shib f2hkw1w f3rmtva f1ewtqcl fyind8e f1k6fduh f1w7gpdv fk6fouc fjoy568 figsok6 f1s184ao f1mk8lai fnbmjn9 f1o700av f13mvf36 f1cmlufx f9n3di6 f1ids18y f1tx3yz7 f1deo86v f1eh06m1 f1iescvh fhgqx19 f1olyrje f1p93eir f1nev41a f1h8hb77 f1lqvz6u f10aw75t fsle3fq f17ae5zn" href="https://bit.ly/3DLGlAV" id="menur1gt9" rel="noreferrer noopener" target="_blank" title="https://bit.ly/3dlglav">https://bit.ly/3DLGlAV</a>
LOCATION:55 Commercial St\, Gloucester\, MA 01930
UID:e.2981.35155
SEQUENCE:3
DTSTAMP:20260424T110836Z
URL:https://business.capeannchamber.com/events/details/beauport-hotel-easter-by-the-sea-04-20-2025-35155
END:VEVENT

END:VCALENDAR
