BEGIN:VCALENDAR
VERSION:2.0
PRODID:-//ChamberMaster//Event Calendar 2.0//EN
METHOD:PUBLISH
X-PUBLISHED-TTL:P3D
REFRESH-INTERVAL:P3D
CALSCALE:GREGORIAN
BEGIN:VEVENT
DTSTART:20250828T220000Z
DTEND:20250829T010000Z
X-MICROSOFT-CDO-ALLDAYEVENT:FALSE
SUMMARY:Beauport Cruiselines Sunset Dinner Cruise
DESCRIPTION:Looking for an unforgettable way to wrap up your summer? \n\n\n\nJoin us on Thursday\, August 28th from 6:00PM - 9:00PM aboard our final Sunset Dinner Cruise! \n\n\n\nSavor a mouthwatering featuring dishes like Boneless Short Ribs Bourguignon\, Panko Crusted Chicken Paillard\, Signature Smashed Potatoes and more! Sip on handcrafted seasonal cocktails\, and soak in in sparkling sunset views over the Gloucester Harbor. With live entertainment and a cash bar onboard\, it's the perfect way to dine\, dance\, and drift through a warm summer evening. \n\n\n\nTickets are $92 for adults and $55 for children\, including the buffet. A cash bar will also be available.\n\n\n\nBook Now: https://bit.ly/3GSPKs1
X-ALT-DESC;FMTTYPE=text/html:Looking for an unforgettable way to wrap up your summer?&nbsp\;<br />\n<br />\nJoin us on Thursday\, August 28th from 6:00PM - 9:00PM aboard our final Sunset Dinner Cruise!&nbsp\;<br />\n<br />\nSavor a mouthwatering featuring dishes like Boneless Short Ribs Bourguignon\, Panko Crusted Chicken Paillard\, Signature Smashed Potatoes and more! Sip on handcrafted seasonal cocktails\, and soak in in sparkling sunset views over the Gloucester Harbor. With live entertainment and a cash bar onboard\, it&rsquo\;s the perfect way to dine\, dance\, and drift through a warm summer evening.&nbsp\;<br />\n<br />\nTickets are $92 for adults and $55 for children\, including the buffet. A cash bar will also be available.<br />\n<br />\nBook Now: https://bit.ly/3GSPKs1
LOCATION:6 Rowe Sq #3057\, Gloucester\, MA 01930
UID:e.2981.41385
SEQUENCE:3
DTSTAMP:20260425T011356Z
URL:https://business.capeannchamber.com/events/details/beauport-cruiselines-sunset-dinner-cruise-08-28-2025-41385
END:VEVENT

END:VCALENDAR
