BEGIN:VCALENDAR
VERSION:2.0
PRODID:-//ChamberMaster//Event Calendar 2.0//EN
METHOD:PUBLISH
X-PUBLISHED-TTL:P3D
REFRESH-INTERVAL:P3D
CALSCALE:GREGORIAN
BEGIN:VEVENT
DTSTART:20241215T160000Z
DTEND:20241215T203000Z
X-MICROSOFT-CDO-ALLDAYEVENT:FALSE
SUMMARY:Beauport Cruiselines Santa at Sea
DESCRIPTION:Our Annual Santa at Sea Cruise is returning this year on December 15th! \n\n\n\nEnjoy a holiday harbor cruise aboard Beauport Cruiselines. Take in the beautiful views of Gloucester Harbor\, all while singing holiday tunes\, enjoying hot cocoa and cookies\, and listening to a reading of "The Night Before Christmas." Plus\, a visit from Santa himself.\n\n\n\nTickets include hot cocoa\, cookies\, and a picture with Santa. A cash bar will be available. Remember to bring a new\, unwrapped gift for our toy drive\, supporting the Cape Ann Kids Holiday Fund.\n\n\n\nCruises:\n\n11 AM Board - 11:30 AM -12:30 PM Sail\n\n2 PM Board - 2:30 PM -3:30 PM Sail\n\n\n\nTickets are $30 per person. Visit this link for tickets and more information: \nhttps://bit.ly/3YJjWdQ
X-ALT-DESC;FMTTYPE=text/html:<span style="color:rgb(54\, 65\, 65)\; font-family:system-ui\,-apple-system\,system-ui\,segoe ui\,roboto\,oxygen\,ubuntu\,cantarell\,fira sans\,droid sans\,helvetica neue\,sans-serif">Our Annual Santa at Sea Cruise is returning this year on December 15th!&nbsp\;</span><br />\n<br />\n<span style="color:rgb(54\, 65\, 65)\; font-family:system-ui\,-apple-system\,system-ui\,segoe ui\,roboto\,oxygen\,ubuntu\,cantarell\,fira sans\,droid sans\,helvetica neue\,sans-serif">Enjoy a holiday harbor cruise aboard Beauport Cruiselines. Take in the beautiful views of Gloucester Harbor\, all while singing holiday tunes\, enjoying hot cocoa and cookies\, and listening to a reading of &ldquo\;The Night Before Christmas.&rdquo\; Plus\, a visit from Santa himself.</span><br />\n<br />\n<span style="color:rgb(54\, 65\, 65)\; font-family:system-ui\,-apple-system\,system-ui\,segoe ui\,roboto\,oxygen\,ubuntu\,cantarell\,fira sans\,droid sans\,helvetica neue\,sans-serif">Tickets include hot cocoa\, cookies\, and a picture with Santa. A cash bar will be available. Remember to bring a new\, unwrapped gift for our toy drive\, supporting the Cape Ann Kids Holiday Fund.</span><br />\n<br />\n<span style="color:rgb(54\, 65\, 65)\; font-family:system-ui\,-apple-system\,system-ui\,segoe ui\,roboto\,oxygen\,ubuntu\,cantarell\,fira sans\,droid sans\,helvetica neue\,sans-serif">Cruises:</span><br />\n<span style="color:rgb(54\, 65\, 65)\; font-family:system-ui\,-apple-system\,system-ui\,segoe ui\,roboto\,oxygen\,ubuntu\,cantarell\,fira sans\,droid sans\,helvetica neue\,sans-serif">11 AM Board - 11:30 AM -12:30 PM Sail</span><br />\n<span style="color:rgb(54\, 65\, 65)\; font-family:system-ui\,-apple-system\,system-ui\,segoe ui\,roboto\,oxygen\,ubuntu\,cantarell\,fira sans\,droid sans\,helvetica neue\,sans-serif">2 PM Board - 2:30 PM -3:30 PM Sail</span><br />\n<br />\n<span style="color:rgb(54\, 65\, 65)\; font-family:system-ui\,-apple-system\,system-ui\,segoe ui\,roboto\,oxygen\,ubuntu\,cantarell\,fira sans\,droid sans\,helvetica neue\,sans-serif">Tickets are $30 per person.&nbsp\;</span><span style="color:rgb(54\, 65\, 65)\; font-family:system-ui\,-apple-system\,system-ui\,segoe ui\,roboto\,oxygen\,ubuntu\,cantarell\,fira sans\,droid sans\,helvetica neue\,sans-serif">Visit this link for tickets and more information:&nbsp\;</span>\n<div><a class="styles__Container-sc-99cuku-0 jHJemn styles__Container-sc-t42egr-0 eYiSnK" href="https://bit.ly/3YJjWdQ" rel="noopener noreferrer" style="box-sizing: border-box\; cursor: pointer\; color: rgb(17\, 80\, 170)\; font-weight: 600\; margin: 0px\; padding-left: 0px\; padding-right: 0px\; font-family: system-ui\, -apple-system\, BlinkMacSystemFont\, &quot\;Segoe UI&quot\;\, Roboto\, Oxygen\, Ubuntu\, Cantarell\, &quot\;Fira Sans&quot\;\, &quot\;Droid Sans&quot\;\, &quot\;Helvetica Neue&quot\;\, sans-serif\; border: 0px\; appearance: none\;" target="_blank">https://bit.ly/3YJjWdQ</a></div>\n
LOCATION:6 Rowe Sq #3057\, Gloucester\, MA 01930
UID:e.2981.34167
SEQUENCE:3
DTSTAMP:20260424T141236Z
URL:https://business.capeannchamber.com/events/details/beauport-cruiselines-santa-at-sea-12-15-2024-34167
END:VEVENT

END:VCALENDAR
