BEGIN:VCALENDAR
VERSION:2.0
PRODID:-//ChamberMaster//Event Calendar 2.0//EN
METHOD:PUBLISH
X-PUBLISHED-TTL:P3D
REFRESH-INTERVAL:P3D
CALSCALE:GREGORIAN
BEGIN:VEVENT
DTSTART:20250420T160000Z
DTEND:20250420T190000Z
X-MICROSOFT-CDO-ALLDAYEVENT:FALSE
SUMMARY:Beauport Cruiselines Easter at Sea
DESCRIPTION:Looking for a unique Easter experience? ??\n\n\n\nSet sail with us from 12:00PM - 3:00PM for an unforgettable Easter excursion! Enjoy a decadent brunch featuring a variety of Pastry Treats\, Fisherman's French Toast\, Carved Honey Ham and more. \n\n\n\nSoak in the stunning harbor views as you dance away to live DJ entertainment\, sip on your favorite seasonal cocktails and celebrate with a special visit from the Easter Bunny! \n\n\n\nTickets are $89 for adults and $45 for children\, including the buffet. A cash bar will be available. \n\n\n\nTickets can be purchased at this link: https://bit.ly/4hA2Arv
X-ALT-DESC;FMTTYPE=text/html:Looking for a unique Easter experience? ??<br />\n<br />\nSet sail with us from 12:00PM - 3:00PM for an unforgettable Easter excursion! Enjoy a decadent brunch featuring a variety of Pastry Treats\, Fisherman&rsquo\;s French Toast\, Carved Honey Ham and more.&nbsp\;<br />\n<br />\nSoak in the stunning harbor views as you dance away to live DJ entertainment\, sip on your favorite seasonal cocktails and celebrate with a special visit from the Easter Bunny!&nbsp\;<br />\n<br />\nTickets are $89 for adults and $45 for children\, including the buffet. A cash bar will be available.&nbsp\;<br />\n<br />\nTickets can be purchased at this link: <a class="fui-Link ___1q1shib f2hkw1w f3rmtva f1ewtqcl fyind8e f1k6fduh f1w7gpdv fk6fouc fjoy568 figsok6 f1s184ao f1mk8lai fnbmjn9 f1o700av f13mvf36 f1cmlufx f9n3di6 f1ids18y f1tx3yz7 f1deo86v f1eh06m1 f1iescvh fhgqx19 f1olyrje f1p93eir f1nev41a f1h8hb77 f1lqvz6u f10aw75t fsle3fq f17ae5zn" href="https://bit.ly/4hA2Arv" id="menurkha" rel="noreferrer noopener" target="_blank" title="https://bit.ly/4ha2arv">https://bit.ly/4hA2Arv</a>
LOCATION:6 Rowe Sq #3057\, Gloucester\, MA 01930
UID:e.2981.35112
SEQUENCE:3
DTSTAMP:20260424T110932Z
URL:https://business.capeannchamber.com/events/details/beauport-cruiselines-easter-at-sea-04-20-2025-35112
END:VEVENT

END:VCALENDAR
