BEGIN:VCALENDAR
VERSION:2.0
PRODID:-//ChamberMaster//Event Calendar 2.0//EN
METHOD:PUBLISH
X-PUBLISHED-TTL:P3D
REFRESH-INTERVAL:P3D
CALSCALE:GREGORIAN
BEGIN:VEVENT
DTSTART:20260405T160000Z
DTEND:20260405T190000Z
X-MICROSOFT-CDO-ALLDAYEVENT:FALSE
SUMMARY:Beauport Cruiselines Easter at Sea
DESCRIPTION:Looking for a one-of-a-kind way to celebrate Easter? Hop aboard Beauport Cruiselines on Sunday\, April 5th from 12:00PM 3:00PM for an unforgettable Easter brunch cruise! \n\n\n\nIndulge in a decadent buffet featuring irresistible Pastry Treats\, Fisherman's French Toast\, Carved Honey Ham\, and so much more. \n\n\n\nTake in breathtaking harbor views\, hit the dance floor with live DJ entertainment\, toast the season with your favorite spring-inspired cocktails from our cash bar and enjoy a visit from the Easter Bunny! \n\n\n\nTickets are $89 for adults and $45 for children and can be purchased at this link: https://bit.ly/46h2t12\n\n\n\nSpots fill fast   gather your family and friends and celebrate Easter in style on the water!
X-ALT-DESC;FMTTYPE=text/html:Looking for a one-of-a-kind way to celebrate Easter? Hop aboard Beauport Cruiselines on Sunday\, April 5th from 12:00PM&ndash\;3:00PM for an unforgettable Easter brunch cruise!&nbsp\;<br />\n<br />\nIndulge in a decadent buffet featuring irresistible Pastry Treats\, Fisherman&rsquo\;s French Toast\, Carved Honey Ham\, and so much more.&nbsp\;<br />\n<br />\nTake in breathtaking harbor views\, hit the dance floor with live DJ entertainment\, toast the season with your favorite spring-inspired cocktails from our cash bar and enjoy a visit from the Easter Bunny!&nbsp\;<br />\n<br />\nTickets are $89 for adults and $45 for children and can be purchased at this link: https://bit.ly/46h2t12<br />\n<br />\nSpots fill fast &mdash\; gather your family and friends and celebrate Easter in style on the water!
LOCATION:6 Rowe Sq #3057\, Gloucester\, MA 01930
UID:e.2981.46421
SEQUENCE:3
DTSTAMP:20260421T102206Z
URL:https://business.capeannchamber.com/events/details/beauport-cruiselines-easter-at-sea-04-05-2026-46421
END:VEVENT

END:VCALENDAR
