BEGIN:VCALENDAR
VERSION:2.0
PRODID:-//ChamberMaster//Event Calendar 2.0//EN
METHOD:PUBLISH
X-PUBLISHED-TTL:P3D
REFRESH-INTERVAL:P3D
CALSCALE:GREGORIAN
BEGIN:VEVENT
DTSTART:20250817T150000Z
DTEND:20250817T180000Z
X-MICROSOFT-CDO-ALLDAYEVENT:FALSE
SUMMARY:Beauport Cruiselines Bubbles & Brunch Cruise
DESCRIPTION:Raise your glass - Bubbles & Brunch is back! \n\n\n\nJoin us on Sunday\, August 17th from 11:00AM - 2:00PM for another Bubbles & Brunch Cruise in partnership with Veuve Clicquot.\n\n\n\nIndulge in a mouthwatering seasonal brunch buffet - think decadent French Toast Casserole\, Seasonal Vegetable Frittata\, Assorted Pastry Treats and so much more! Dance the day away to live DJ entertainment as you sip on sparkling Veuve Clicquot champagne and specialty cocktails - all while sailing throughout the stunning Gloucester Harbor. \n\n\n\nTickets are $89 for adults and $50 for children\, including the buffet\, and can be purchased at the link below. A cash bar will be available as well.\n\n\n\nBook Now: https://bit.ly/417pmBj
X-ALT-DESC;FMTTYPE=text/html:Raise your glass - Bubbles &amp\; Brunch is back!&nbsp\;<br />\n<br />\nJoin us on Sunday\, August 17th from 11:00AM - 2:00PM for another Bubbles &amp\; Brunch Cruise in partnership with Veuve Clicquot.<br />\n<br />\nIndulge in a mouthwatering seasonal brunch buffet - think decadent French Toast Casserole\, Seasonal Vegetable Frittata\, Assorted Pastry Treats and so much more! Dance the day away to live DJ entertainment as you sip on sparkling Veuve Clicquot champagne and specialty cocktails - all while sailing throughout the stunning Gloucester Harbor.&nbsp\;<br />\n<br />\nTickets are $89 for adults and $50 for children\, including the buffet\, and can be purchased at the link below. A cash bar will be available as well.<br />\n<br />\nBook Now: <a class="fui-Link ___1q1shib f2hkw1w f3rmtva f1ewtqcl fyind8e f1k6fduh f1w7gpdv fk6fouc fjoy568 figsok6 f1s184ao f1mk8lai fnbmjn9 f1o700av f13mvf36 f1cmlufx f9n3di6 f1ids18y f1tx3yz7 f1deo86v f1eh06m1 f1iescvh fhgqx19 f1olyrje f1p93eir f1nev41a f1h8hb77 f1lqvz6u f10aw75t fsle3fq f17ae5zn" href="https://bit.ly/417pmBj" id="menurlr0" rel="noreferrer noopener" target="_blank" title="https://bit.ly/417pmbj">https://bit.ly/417pmBj</a>
LOCATION:6 Rowe Sq #3057\, Gloucester\, MA 01930
UID:e.2981.41382
SEQUENCE:3
DTSTAMP:20260424T235853Z
URL:https://business.capeannchamber.com/events/details/beauport-cruiselines-bubbles-brunch-cruise-08-17-2025-41382
END:VEVENT

END:VCALENDAR
