BEGIN:VCALENDAR
VERSION:2.0
PRODID:-//ChamberMaster//Event Calendar 2.0//EN
METHOD:PUBLISH
X-PUBLISHED-TTL:P3D
REFRESH-INTERVAL:P3D
CALSCALE:GREGORIAN
BEGIN:VEVENT
DTSTART:20211029T220000Z
DTEND:20211030T010000Z
X-MICROSOFT-CDO-ALLDAYEVENT:FALSE
SUMMARY:Beauport Cruiseline's 80's Halloween Cruise
DESCRIPTION:Bring out the neon\, high tops\, and glow sticks for this fun night on the water-we're sailing back in time to the 80's!\n\nEnjoy our dinner buffet\, dance to DJ Scottie Mac tunes\, and throwback on this exciting 80's themed Halloween Cruise! 80's attire is strongly encouraged!\n\n \n\nBeauport Cruiselines\n\nFriday\, October 29th\n\n6PM-9PM
X-ALT-DESC;FMTTYPE=text/html:<p>&nbsp\;</p>\n\n<p style="text-align: justify\;"><span style="font-size:12px">Bring out the neon\, high tops\, and glow sticks for this fun night on the water-we&#39\;re sailing back in time to the 80&#39\;s!</span></p>\n\n<p style="text-align: justify\;"><span style="font-size:12px">Enjoy our dinner buffet\, dance to </span><a href="https://www.facebook.com/360djs.net/" rel="noopener" style="font-size: 12px\;" target="_blank">DJ Scottie Mac</a><span style="font-size:12px"> tunes\, and throwback on this exciting 80&#39\;s themed Halloween Cruise!&nbsp\;</span><strong style="font-size:12px">80&#39\;s attire is strongly encouraged!</strong></p>\n\n<p style="text-align: justify\;">&nbsp\;</p>\n\n<p style="text-align: center\;"><span style="font-size:12px"><strong>Beauport Cruiselines</strong></span></p>\n\n<p style="text-align: center\;"><span style="font-size:12px"><strong>Friday\, October 29th</strong></span></p>\n\n<p style="text-align: center\;"><span style="font-size:12px"><strong>6PM-9PM</strong></span></p>\n
LOCATION:Beauport Cruiselines 6 Rowe Square Gloucester\, MA 01930
UID:e.2981.21392
SEQUENCE:3
DTSTAMP:20260424T110931Z
URL:https://business.capeannchamber.com/events/details/beauport-cruiseline-s-80-s-halloween-cruise-21392
END:VEVENT

END:VCALENDAR
