BEGIN:VCALENDAR
VERSION:2.0
PRODID:-//ChamberMaster//Event Calendar 2.0//EN
METHOD:PUBLISH
X-PUBLISHED-TTL:P3D
REFRESH-INTERVAL:P3D
CALSCALE:GREGORIAN
BEGIN:VEVENT
DTSTART:20241117T180000Z
DTEND:20241117T220000Z
X-MICROSOFT-CDO-ALLDAYEVENT:FALSE
SUMMARY:Beauport Boutique Sip & Shop
DESCRIPTION:Discover Nautical Elegance at Beauport Boutique.\n\n\n\nSet sail into the season of style and sophistication on Sunday\, November 17th 1:00-5:00 PM for an exclusive Sip & Shop event at Beauport Boutique\, where timeless elegance meets coastal charm. Explore our freshly curated collection of holiday treasures and perfect gifts for your loved ones.\n\nGather your shopping companions to browse a seasonal selection of home d cor\, luxurious cashmere\, chic accessories\, trending jewelry\, and exclusive Beauport-branded apparel. Shop top designers including Mitchie's Matching of Montreal\, Linda Richards\, Charlie B Fashion\, Alashan Cashmere\, Colby Davis\, KADA\, Skida\, Print Fresh\, and more.\n\n\n\nLight bites and sips will be provided\, with additional food and beverage available for purchase at 1606 Restaurant & Oyster Bar.\n\n\n\nPlease RSVP to our Facebook Event to let us know you're coming: https://bit.ly/4eNab5o
X-ALT-DESC;FMTTYPE=text/html:Discover Nautical Elegance at Beauport Boutique.<br />\n<br />\nSet sail into the season of style and sophistication on Sunday\, November 17th 1:00-5:00 PM for an exclusive Sip &amp\; Shop event at Beauport Boutique\, where timeless elegance meets coastal charm. Explore our freshly curated collection of holiday treasures and perfect gifts for your loved ones.<br />\nGather your shopping companions to browse a seasonal selection of home d&eacute\;cor\, luxurious cashmere\, chic accessories\, trending jewelry\, and exclusive Beauport-branded apparel. Shop top designers including Mitchie&rsquo\;s Matching of Montreal\, Linda Richards\, Charlie B Fashion\, Alashan Cashmere\, Colby Davis\, KADA\, Skida\, Print Fresh\, and more.<br />\n<br />\nLight bites and sips will be provided\, with additional food and beverage available for purchase at 1606 Restaurant &amp\; Oyster Bar.<br />\n<br />\nPlease RSVP to our Facebook Event to let us know you&#39\;re coming: https://bit.ly/4eNab5o
LOCATION:55 Commercial St\, Gloucester\, MA 01930
UID:e.2981.33274
SEQUENCE:3
DTSTAMP:20260424T152718Z
URL:https://business.capeannchamber.com/events/details/beauport-boutique-sip-shop-33274
END:VEVENT

END:VCALENDAR
