BEGIN:VCALENDAR
VERSION:2.0
PRODID:-//ChamberMaster//Event Calendar 2.0//EN
METHOD:PUBLISH
X-PUBLISHED-TTL:P3D
REFRESH-INTERVAL:P3D
CALSCALE:GREGORIAN
BEGIN:VEVENT
DTSTART:20251116T180000Z
DTEND:20251116T220000Z
X-MICROSOFT-CDO-ALLDAYEVENT:FALSE
SUMMARY:Beauport Boutique Sip & Shop
DESCRIPTION:Sip\, Sparkle\, & Shop! \n\n\n\nMark your calendars for a chic afternoon at Beauport Hotel on Sunday\, November 16\, from 1:00PM-5:00PM. Enjoy light bites\, bubbly champagne\, and curated finds from fabulous brands at the Beauport Boutique.\n\n\n\nIt's retail therapy\, elevated.\n\n\n\nRSVP Here: https://bit.ly/4nR4N5l
X-ALT-DESC;FMTTYPE=text/html:Sip\, Sparkle\, &amp\; Shop!&nbsp\;<br />\n<br />\nMark your calendars for a chic afternoon at Beauport Hotel on Sunday\, November 16\, from 1:00PM-5:00PM. Enjoy light bites\, bubbly champagne\, and curated finds from fabulous brands at the Beauport Boutique.<br />\n<br />\nIt&rsquo\;s retail therapy\, elevated.<br />\n<br />\nRSVP Here: <a class="fui-Link ___1q1shib f2hkw1w f3rmtva f1ewtqcl fyind8e f1k6fduh f1w7gpdv fk6fouc fjoy568 figsok6 f1s184ao f1mk8lai fnbmjn9 f1o700av f13mvf36 f1cmlufx f9n3di6 f1ids18y f1tx3yz7 f1deo86v f1eh06m1 f1iescvh fhgqx19 f1olyrje f1p93eir f1nev41a f1h8hb77 f1lqvz6u f10aw75t fsle3fq f17ae5zn" href="https://bit.ly/4nR4N5l" id="menur2080" rel="noreferrer noopener" target="_blank" title="https://bit.ly/4nr4n5l">https://bit.ly/4nR4N5l</a>
LOCATION:55 Commercial St\, Gloucester\, MA 01930
UID:e.2981.45185
SEQUENCE:3
DTSTAMP:20260425T035657Z
URL:https://business.capeannchamber.com/events/details/beauport-boutique-sip-shop-11-16-2025-45185
END:VEVENT

END:VCALENDAR
